BEGIN:VCALENDAR
VERSION:2.0
PRODID:-//ChamberMaster//Event Calendar 2.0//EN
METHOD:PUBLISH
X-PUBLISHED-TTL:P3D
REFRESH-INTERVAL:P3D
CALSCALE:GREGORIAN
BEGIN:VEVENT
DTSTART;VALUE=DATE:20150601
DTEND;VALUE=DATE:20150701
TRANSP:TRANSPARENT
X-MICROSOFT-CDO-ALLDAYEVENT:TRUE
SUMMARY:$10\,000 Appalachian Radio Charity Fundraiser!
DESCRIPTION:WJRB 95.1FM & WJUL 97.5FM Radio \n\nPRESENTS\n\n$10\,000 Appalachian Radio Charity Fundraiser!\n\nDonate to your favorite charitable organization & give a small business the opportunity to\n\nget a FREE radio advertising contract!\n\nOur Purpose: It is our desire to continue to be an effective communications partner with community based traditions that bind us together with our listening audience. The WJRB 95.1FM & WJUL 97.5FM $10\,000 Appalachian Radio Charity Fundraiser platform provides an opportunity to work together for the well-being of others.\n\nATTENTION: \n\nALL North Georgia & Western Carolina NON-PROFIT 501(c)(3) Charitable Organizations:\n\n\n\nNOW IS THE TIME to take advantage of a GREAT fundraiser that will earn your charity 100% of the donations raised!  All you have to do is snag a 'Business Sponsor' between NOW and JUNE 30th to sponsor you.  They will in turn raise money on your behalf during the month of July when we kickoff the fundraiser!  And not only will your charity get DONATIONS PLUS EXPOSURE on live radio but your sponsoring business will have a chance to win up to $10\,000 in FREE radio advertising to market and grow their business! \n\n\n\nIf your charity would like to participate in the $10\,000 Appalachian Radio charity Fundraiser\, please email Robin Story\, Marketing Manager at robin@wjulradio.com for a registration form today!  \n\n\n\nREGISTRATION DEADLINE: JUNE 30\, 2015\n\n\n\nYou will also receive the instructional documents for the non-profit\, for your sponsoring small business\, as well as a listing of the $10\,000 prize packages via email.  Contact the radio station today before the registration deadline!\n\n\n\nThe Following Local & Area Chambers are donating a 'ONE YEAR MEMBERSHIP' to the non-profit organization whose business sponsor wins the GRAND PRIZE:\n\n\n\nBlairsville-Union County Chamber of Commerce\n\nCherokee County Chamber of Commerce of Murphy\, NC\n\nClay County Chamber of Commerce of Hayesville\, NC\n\nTowns County Chamber of Commerce\n\n \n\nDISCLAIMER:\n\n*ANY 501(c)(3) non-profit organization can register to be included in the $10\,000 Appalachian Radio Charity Fundraiser EXCEPT FOR churches\, church affiliated non-profits\,any other non-profit or for-profit radio broadcasting station as they would be a direct conflict in the charitable fundraising efforts of WJRB 95.1FM & WJUL 97.5FM radio station(s).\n\n*ANY for-profit small business can sponsor their favorite non-profit charitable organization and be included at a chance to win any one of the four prize packages in the $10\,000 Appalachian Radio Charity Fundraiser EXCEPT FOR any other non-profit or for-profit radio broadcasting station as they would be a direct conflict in the charitable fundraising efforts of WJRB 95.1FM & WJUL 97.5FM radio station(s).\n\n*Non-Profit Charitable Organization must be registered to participate in the charitable fundraiser before the designated launch date and must prove thru proper documentation that they are recognized by the IRS as a 501(c)(3).\n\n*Coverage area includes North Georgia & Western Carolina's. Specific target cities include: Blue Ridge\, GA\, Blairsville\, GA\, Young Harris\, GA\, Hiawassee\, GA\, Murphy\, NC\, & Hayesville\, NC.\n\n\n\nFUNDRAISER KICKOFF DATE: JULY 1\, 2015\n\n*Fundraiser Ends: July 31\, 2015\n\nDATE TO ANNOUNCE WINNERS: LIVE on the Radio AUGUST 3rd\, 4th\, 5th. \n\nPresentation to be held on Thursday AUGUST 6th \, 2015 at 10AM at the \n\nBlairsville-Union County Chamber of Commerce lobby area.\n\n\n\nOn behalf of Batten Communications\, WJRB 95.1FM & WJUL 97.5FM\, we would like to thank our local and area Chambers for their continued support!
X-ALT-DESC;FMTTYPE=text/html:<p style="text-align: center\;"><span style="font-size: 18px\;"><span style="color: rgb(255\, 140\, 0)\;"><strong><em>WJRB 95.1FM &amp\; WJUL 97.5FM Radio </em></strong></span></span><br />\n<em>PRESENTS</em><br />\n<span style="font-size: 20px\;"><span style="color: rgb(128\, 0\, 128)\;">$10\,000 Appalachian Radio Charity Fundraiser!</span></span><br />\n<em>Donate to your favorite charitable organization &amp\; give a small business the opportunity to<br />\nget a FREE radio advertising contract!</em></p>\n\n<p><strong>Our Purpose: </strong>It is our desire to continue to be an effective communications partner with community based traditions that bind us together with our listening audience. The <em>WJRB 95.1FM &amp\; WJUL 97.5FM</em> $10\,000 Appalachian Radio Charity Fundraiser platform provides an opportunity to work together&nbsp\;for the well-being of others.</p>\n\n<p style="text-align: center\;"><span style="font-size: 14px\;"><strong><span style="color: rgb(178\, 34\, 34)\;">ATTENTION:&nbsp\;</span></strong></span></p>\n\n<p style="text-align: center\;"><span style="font-size: 14px\;"><em><span style="color: rgb(178\, 34\, 34)\;">ALL North Georgia &amp\; Western Carolina <u>NON-PROFIT 501(c)(3) Charitable Organizations</u>:</span><br />\n<br />\nNOW IS THE TIME to take advantage of a GREAT fundraiser that will earn your charity 100% of the donations raised!&nbsp\; All you have to do is snag a &#39\;Business Sponsor&#39\; between NOW and JUNE 30th to sponsor you.&nbsp\; They will in turn raise money on your behalf during the month of July when we kickoff the fundraiser!&nbsp\; And not&nbsp\;only will your charity&nbsp\;get DONATIONS PLUS EXPOSURE on live radio but your sponsoring business&nbsp\;will have a chance to win up to $10\,000 in FREE radio advertising to market and grow their business!&nbsp\;<br />\n<br />\nIf your charity would like to participate in the $10\,000 Appalachian Radio charity Fundraiser\, please email Robin Story\, Marketing Manager at <a href="mailto:robin@wjulradio.com">robin@wjulradio.com</a> for a registration form today!&nbsp\; </em><br />\n<br />\n<span style="color: rgb(178\, 34\, 34)\;"><u>REGISTRATION DEADLINE:&nbsp\;JUNE 30\, 2015</u></span><br />\n<br />\n<em>You will also receive the instructional documents for the non-profit\, for your sponsoring small business\, as well as a listing of the $10\,000 prize packages via email.&nbsp\; Contact the radio station today before the registration deadline!<br />\n<br />\nThe Following Local &amp\; Area Chambers&nbsp\;are&nbsp\;donating a &#39\;ONE YEAR MEMBERSHIP&#39\; to the non-profit organization whose business sponsor wins the </em><em>GRAND PRIZE:<br />\n<br />\n<span style="color: rgb(128\, 0\, 128)\;">Blairsville-Union County Chamber of Commerce<br />\nCherokee County Chamber of Commerce of Murphy\, NC<br />\nClay County Chamber of Commerce of Hayesville\, NC<br />\nTowns County Chamber of Commerce</span></em></span><br />\n&nbsp\;</p>\n\n<p style="text-align: center\;"><span style="font-size: 14px\;"><u><strong>DISCLAIMER:</strong></u></span></p>\n\n<p><span style="font-size: 14px\;">*ANY <em>501(c)(3) non-profit organization</em>&nbsp\;can register to be included in the $10\,000 Appalachian Radio Charity Fundraiser <strong>EXCEPT FOR</strong> <em><u>churches\, church affiliated non-profits\,</u></em><u>any other non-profit or for-profit radio broadcasting station</u> as they would be a <em>direct conflict</em> in the charitable fundraising efforts of WJRB 95.1FM &amp\; WJUL 97.5FM radio station(s).</span></p>\n\n<p><span style="font-size: 14px\;">*ANY <em>for-profit small business</em> can sponsor their favorite non-profit charitable organization and be included at a chance to win any one of the four prize packages in the $10\,000 Appalachian Radio Charity Fundraiser <strong>EXCEPT FOR</strong> <u>any other non-profit or for-profit radio broadcasting station</u> as they would be a <em>direct conflict</em> in the charitable fundraising efforts of WJRB 95.1FM &amp\; WJUL 97.5FM radio station(s).</span></p>\n\n<p><span style="font-size: 14px\;">*Non-Profit Charitable Organization must be <em>registered</em> to participate in the charitable fundraiser before the designated launch date and must prove thru proper documentation that they are recognized by the IRS as a 501(c)(3).</span></p>\n\n<p><span style="font-size: 14px\;">*Coverage area includes North Georgia &amp\; Western Carolina&rsquo\;s. Specific target cities include: Blue Ridge\, GA\, Blairsville\, GA\, Young Harris\, GA\, Hiawassee\, GA\, Murphy\, NC\, &amp\; Hayesville\, NC.</span></p>\n\n<p style="text-align: center\;"><br />\n<span style="font-size: 14px\;"><span style="color: rgb(128\, 0\, 128)\;"><strong>FUNDRAISER KICKOFF DATE: </strong>JULY 1\, 2015</span></span></p>\n\n<p style="text-align: center\;"><span style="font-size: 14px\;"><em>*Fundraiser Ends: July 31\, 2015</em></span></p>\n\n<p style="text-align: center\;"><span style="font-size: 14px\;"><span style="color: rgb(128\, 0\, 128)\;"><strong>DATE TO ANNOUNCE WINNERS: </strong>LIVE on the Radio AUGUST 3rd\, 4th\, 5th. </span></span></p>\n\n<p style="text-align: center\;"><span style="font-size: 14px\;"><span style="color: rgb(128\, 0\, 128)\;">Presentation to be held on Thursday AUGUST 6<sup>th</sup> \, 2015 at 10AM at the </span></span></p>\n\n<p style="text-align: center\;"><span style="font-size: 14px\;"><span style="color: rgb(128\, 0\, 128)\;"><em>Blairsville-Union County Chamber of Commerce </em>lobby area.</span><br />\n<br />\n<em>On behalf of Batten Communications\, WJRB 95.1FM &amp\; WJUL 97.5FM\, we would like to thank our local and area Chambers for their continued support!</em></span></p>\n<br />\n&nbsp\;
LOCATION:1352 Main Street\, Suite 6 Young Harris\, Georgia 30582
UID:e.256.40288
SEQUENCE:3
DTSTAMP:20260423T170013Z
URL:https://members.visitblairsvillega.com/events/details/10-000-appalachian-radio-charity-fundraiser-06-01-2015-40288
END:VEVENT

END:VCALENDAR
