BEGIN:VCALENDAR
VERSION:2.0
PRODID:-//ChamberMaster//Event Calendar 2.0//EN
METHOD:PUBLISH
X-PUBLISHED-TTL:P3D
REFRESH-INTERVAL:P3D
CALSCALE:GREGORIAN
BEGIN:VEVENT
DTSTART:20170624T130000Z
DTEND:20170624T200000Z
X-MICROSOFT-CDO-ALLDAYEVENT:FALSE
SUMMARY:11th Annual Mountain Fling
DESCRIPTION:A two - day juried show featuring original fine art and fine crafts\, ceramics\, fiber art\, linens\, jewelry\, soaps\, gourds\, leather goods\, pet items\, outdoor art.
X-ALT-DESC;FMTTYPE=text/html:A two - day juried show featuring original fine art and fine crafts\, ceramics\, fiber art\, linens\, jewelry\, soaps\, gourds\, leather goods\, pet items\, outdoor art.
LOCATION:North GA Technical College 121 Meeks Ave Blairsville\, GA
UID:e.256.62191
SEQUENCE:3
DTSTAMP:20260420T004106Z
URL:https://members.visitblairsvillega.com/events/details/11th-annual-mountain-fling-06-24-2017-62191
END:VEVENT

END:VCALENDAR
