BEGIN:VCALENDAR
VERSION:2.0
PRODID:-//ChamberMaster//Event Calendar 2.0//EN
METHOD:PUBLISH
X-PUBLISHED-TTL:P3D
REFRESH-INTERVAL:P3D
CALSCALE:GREGORIAN
BEGIN:VEVENT
DTSTART:20160612T130000Z
DTEND:20160612T210000Z
X-MICROSOFT-CDO-ALLDAYEVENT:FALSE
SUMMARY:13th Annual Blairsville Scottish Festival & Highland Games
DESCRIPTION:Discover your "clan" and hang out with locals and visitors enjoying traditional games. Highland music\, dancing and food with a Scottish flair. Watch border collies herd sheep and falcons swoop down on "prey" or check your roots at the Heritage Tent. Children can compete in their own Highland games. For the "wee ones" there's face painting\, train rides. The weekend includes a Kilted golf classic\, Ceilidh party\, Kilted Mile Run\, Clan Tug of War\, Bonniest Knees Contest.
X-ALT-DESC;FMTTYPE=text/html:Discover your &quot\;clan&quot\; and hang out with locals and visitors enjoying traditional games. Highland music\, dancing and food with a Scottish flair. Watch border collies herd sheep and falcons swoop down on &quot\;prey&quot\; or check your roots at the Heritage Tent. Children can compete in their own Highland games. For the &quot\;wee ones&quot\; there&#39\;s face painting\, train rides. The weekend includes a Kilted golf classic\, Ceilidh party\, Kilted Mile Run\, Clan Tug of War\, Bonniest Knees Contest.
LOCATION:Meeks Park (1/2 mile west of Blairsville off Hwy. 515W) 11 Pool Lane Blairsville\, GA
UID:e.256.45185
SEQUENCE:3
DTSTAMP:20260420T223450Z
URL:https://members.visitblairsvillega.com/events/details/13th-annual-blairsville-scottish-festival-highland-games-06-12-2016-45185
END:VEVENT

END:VCALENDAR
