BEGIN:VCALENDAR
VERSION:2.0
PRODID:-//ChamberMaster//Event Calendar 2.0//EN
METHOD:PUBLISH
X-PUBLISHED-TTL:P3D
REFRESH-INTERVAL:P3D
CALSCALE:GREGORIAN
BEGIN:VEVENT
DTSTART:20171007T130000Z
DTEND:20171007T190000Z
X-MICROSOFT-CDO-ALLDAYEVENT:FALSE
SUMMARY:13th Annual NAMIWalks Georgia
DESCRIPTION:Walk with us for mental health? NAMI is proud to host its largest and most successful mental health awareness and fundraising event in the country.  Through NAMIWalks' public and active display of support\, we are changing how Americans and Georgians view mental illness.  Please join us as we start Making Waves for Mental Health! This is a rain or shine event.
X-ALT-DESC;FMTTYPE=text/html:Walk with us for mental health? NAMI is proud to host its largest and most successful mental health awareness and fundraising event in the country.&nbsp\; Through NAMIWalks&#39\; public and active display of support\, we are changing how Americans and Georgians view mental illness.&nbsp\; Please join us as we start <strong>Making Waves for Mental Health! </strong>This is a rain or shine event.
LOCATION:Grant Park Atlanta\, Georgia
UID:e.256.75774
SEQUENCE:3
DTSTAMP:20260419T155932Z
URL:https://members.visitblairsvillega.com/events/details/13th-annual-namiwalks-georgia-75774
END:VEVENT

END:VCALENDAR
