BEGIN:VCALENDAR
VERSION:2.0
PRODID:-//ChamberMaster//Event Calendar 2.0//EN
METHOD:PUBLISH
X-PUBLISHED-TTL:P3D
REFRESH-INTERVAL:P3D
CALSCALE:GREGORIAN
BEGIN:VEVENT
DTSTART:20151031T133000Z
DTEND:20151031T193000Z
X-MICROSOFT-CDO-ALLDAYEVENT:FALSE
SUMMARY:13th Annual S.A.F.E. Poker Run
DESCRIPTION:The Charitable Event supports the programs and services of S.A.F.E. 13th annual S.A.F.E. poker run\, raffles\, grand prizes\,T-shirts\, food and drinks. Motorcycle ride through the beautiful scenic mountains.
X-ALT-DESC;FMTTYPE=text/html:The Charitable Event supports the programs and services of S.A.F.E. 13th annual S.A.F.E. poker run\, raffles\, grand prizes\,T-shirts\, food and drinks. Motorcycle ride through the beautiful scenic mountains.
LOCATION:Will begin at Union Power Sports located at 1741 Blue Ridge Hwy. Blairsville and will end at the Hiawassee Fairgrounds.
UID:e.256.38145
SEQUENCE:3
DTSTAMP:20260423T102938Z
URL:https://members.visitblairsvillega.com/events/details/13th-annual-s-a-f-e-poker-run-10-31-2015-38145
END:VEVENT

END:VCALENDAR
