BEGIN:VCALENDAR
VERSION:2.0
PRODID:-//ChamberMaster//Event Calendar 2.0//EN
METHOD:PUBLISH
X-PUBLISHED-TTL:P3D
REFRESH-INTERVAL:P3D
CALSCALE:GREGORIAN
BEGIN:VEVENT
DTSTART:20140610T130000Z
DTEND:20140610T180000Z
X-MICROSOFT-CDO-ALLDAYEVENT:FALSE
SUMMARY:13th Annual Sunny D Children's Theater Summer Camp
DESCRIPTION:13th Annual Sunny D Children's Theater Summer Drama & Musical Theater Camp Proudly presents THEATER AROUND THE WORLD June 9 - 22\, 2014 Sunny D Children's Theater Camp now in its 13th consecutive year provides Children and Youth a fun creative theater experience under the direction of our Executive Director\, Patricia Webb.  Campers have a choice of two fabulous day camp experiences\, Drama Camp or Musical Theater Camp\, held at two convenient locations: the Kiwanis Fairgrounds Building & the Blue Ridge Community Theater. \n\n \n\nThe two-week Drama Camp (9:00 am - 2:00 pm) is packed full of fun with an emphasis on theater technique and performance. Our excellent teaching\, directing\, and theater expertise enhances skills\, encourages cooperative work\, and nurtures self-confidence.  Children and youth\, ages 5 to 18 with any level of experience\, will have the unique opportunity to explore the wonders of the theatrical experience with other like-spirited young people.  Students will explore performance techniques in comedy\, improvisation\, character analysis\, rhythm and timing. \n\nDrama Camp Tuition is only $200.00.  Scholarships are available.\n\n \n\nThe two week Musical Theater Camp (9:00 am   4:00 pm) is for students ages 10 -18 at the Blue Ridge Community Theater.  Youth will be trained in Solo and Chorus Song\, Dance and Drama by professional instructors who have appeared on Broadway and throughout the country.  Musical Theater Camp is for students with experience in voice and dance who wish to learn more and enhance their theatrical ability. \n\nMusical Theater Camp Tuition is only $250.00.  Scholarships are available.\n\n \n\nAll Sunny D Campers will be challenged to grow artistically by qualified\, professional artists and teachers who nurture and support their talents and skills through performance and creativity. Each camp activity has its own area and is equipped to professional standards.  Our curriculum is designed to stimulate the creative imagination of each participant. \n\n \n\n Sunny D Children's Theater Summer Camps are educational institutions that encourage students to quickly discover that with commitment they can succeed in any endeavor and experience the exhilaration of accomplishment!\n\nLimited enrollment and on a first come   first serve basis!\n\nPlease Return Forms To:\n\nSunny D Children's Theater\n\nAttn:  Patricia Webb\n\n2591 East First Street\n\nBlue Ridge\, Georgia  30513
X-ALT-DESC;FMTTYPE=text/html:13th Annual Sunny D Children&#39\;s Theater Summer Drama &amp\; Musical Theater Camp Proudly presents THEATER AROUND THE WORLD June 9&nbsp\;- 22\, 2014 <span style="font-size: 11pt\;"><span style="color: black\;"><span style="font-family: times new roman\;">Sunny</span></span></span><span style="font-size: 11pt\;"><span style="color: black\;"><span style="font-family: times new roman\;"> D Children&rsquo\;s Theater Camp now in its <strong>13<sup>th</sup> consecutive year </strong>provides Children and Youth a fun creative theater experience under the direction of our Executive Director\, <strong>Patricia Webb</strong>.&nbsp\; Campers have a choice of two fabulous day camp experiences\, <strong>Drama Camp or Musical Theater Camp\, </strong>held at two convenient locations: the Kiwanis Fairgrounds Building &amp\; the Blue Ridge Community Theater. </span></span></span><br />\n&nbsp\;<br />\n<span style="font-size: 11pt\;"><span style="color: black\;"><span style="font-family: times new roman\;">The two-week <strong><em>Drama Camp </em></strong>(9:00 am - 2:00 pm) is packed full of fun with an emphasis on theater technique and performance. Our excellent teaching\, directing\, and theater expertise enhances skills\, encourages cooperative work\, and nurtures self-confidence.&nbsp\; Children and youth\, <strong>ages 5 to 18 </strong>with any level of experience\, will have the unique opportunity to explore the wonders of the theatrical experience with other like-spirited young people. &nbsp\;Students will explore performance techniques in comedy\, improvisation\, character analysis\, rhythm and timing. </span></span></span><br />\n<span style="font-family: times new roman\;"><strong><span style="font-size: 11pt\;"><span style="color: black\;">Drama Camp Tuition is only $200.00.</span></span></strong><span style="font-size: 11pt\;"><span style="color: black\;">&nbsp\; Scholarships are available.</span></span></span><br />\n&nbsp\;<br />\n<span style="font-size: 11pt\;"><span style="color: black\;"><span style="font-family: times new roman\;">The two week <strong><em>Musical Theater Camp</em></strong> (9:00 am &ndash\; 4:00 pm) is for students <strong>ages 10 -18</strong> at the Blue Ridge Community Theater.&nbsp\; Youth will be trained in Solo and Chorus Song\, Dance and Drama by professional instructors who have appeared on Broadway and throughout the country.&nbsp\; Musical Theater Camp is for students with experience in voice and dance who wish to learn more and enhance their theatrical ability. </span></span></span><br />\n<span style="font-family: times new roman\;"><strong><span style="font-size: 11pt\;"><span style="color: black\;">Musical Theater Camp Tuition is only $250.00.</span></span></strong><span style="font-size: 11pt\;"><span style="color: black\;">&nbsp\; Scholarships are available.</span></span></span><br />\n&nbsp\;<br />\n<span style="font-size: 11pt\;"><span style="color: black\;"><span style="font-family: times new roman\;">All Sunny D Campers will be challenged to grow artistically by qualified\, professional artists and teachers who nurture and support their talents and skills through performance and creativity. Each camp activity has its own area and is equipped to professional standards.&nbsp\; Our curriculum is designed to stimulate the creative imagination of each participant. </span></span></span><br />\n&nbsp\;<br />\n<span style="font-family: times new roman\;">&nbsp\;<span style="font-size: 11pt\;"><span style="color: black\;">Sunny D Children&rsquo\;s Theater Summer Camps are educational institutions that encourage students to quickly discover that with commitment they can succeed in any endeavor and experience the exhilaration of accomplishment!</span></span></span><br />\n<span style="font-size: medium\;"><span style="font-family: times new roman\;"><strong><span style="color: black\;">Limited enrollment and on a first come &ndash\; first serve basis!</span></strong></span></span><br />\n<strong><span style="font-size: 11pt\;"><span style="color: black\;"><span style="font-family: times new roman\;">Please Return Forms To:</span></span></span></strong><br />\n<span style="font-size: 11pt\;"><span style="color: black\;"><span style="font-family: times new roman\;">Sunny D Children&rsquo\;s Theater</span></span></span><br />\n<span style="font-size: 11pt\;"><span style="color: black\;"><span style="font-family: times new roman\;">Attn:&nbsp\; Patricia Webb</span></span></span><br />\n<span style="font-size: 11pt\;"><span style="color: black\;"><span style="font-family: times new roman\;">2591 East First Street</span></span></span><br />\n<span style="font-size: 11pt\;"><span style="color: black\;"><span style="font-family: times new roman\;">Blue Ridge\, Georgia&nbsp\; 30513</span></span></span><br />\n<br />\n&nbsp\;
LOCATION:Kiwanis Fairgrounds Building & the Blue Ridge Community Theater.
UID:e.256.23628
SEQUENCE:3
DTSTAMP:20260424T122533Z
URL:https://members.visitblairsvillega.com/events/details/13th-annual-sunny-d-children-s-theater-summer-camp-06-10-2014-23628
END:VEVENT

END:VCALENDAR
