BEGIN:VCALENDAR
VERSION:2.0
PRODID:-//ChamberMaster//Event Calendar 2.0//EN
METHOD:PUBLISH
X-PUBLISHED-TTL:P3D
REFRESH-INTERVAL:P3D
CALSCALE:GREGORIAN
BEGIN:VEVENT
DTSTART:20170610T130000Z
DTEND:20170610T210000Z
X-MICROSOFT-CDO-ALLDAYEVENT:FALSE
SUMMARY:14th Annual Blairsville Scottish Festival & Highland Games
DESCRIPTION:Discover your "clan" and hang out with locals and visitors enjoying traditional games. Highland music\, dancing and food with a Scottish flair. Watch border collies herd sheep and falcons swoop down on "prey" or check your roots at the Heritage Tent. Children can compete in their own Highland games. For the "wee ones" there's face painting\, train rides. The weekend includes a  Scottish Rock Concert\, Kilted Mile Run\, Massed bands\, Bonniest Knees Contest\, Kirkin' of the Tartans (church service)\, and a Mini Cooper parade!
X-ALT-DESC;FMTTYPE=text/html:Discover your &quot\;clan&quot\; and hang out with locals and visitors enjoying traditional games. Highland music\, dancing and food with a Scottish flair. Watch border collies herd sheep and falcons swoop down on &quot\;prey&quot\; or check your roots at the Heritage Tent. Children can compete in their own Highland games. For the &quot\;wee ones&quot\; there&#39\;s face painting\, train rides. The weekend includes a&nbsp\; Scottish Rock Concert\, Kilted Mile Run\, Massed bands\,&nbsp\;Bonniest Knees Contest\, Kirkin&#39\; of the Tartans (church service)\,&nbsp\;and a Mini Cooper parade!
LOCATION:Meeks Park (1/2 mile west of Blairsville off Hwy. 515W) 11 Pool Lane Blairsville\, GA
UID:e.256.62189
SEQUENCE:3
DTSTAMP:20260420T004744Z
URL:https://members.visitblairsvillega.com/events/details/14th-annual-blairsville-scottish-festival-highland-games-06-10-2017-62189
END:VEVENT

END:VCALENDAR
