BEGIN:VCALENDAR
VERSION:2.0
PRODID:-//ChamberMaster//Event Calendar 2.0//EN
METHOD:PUBLISH
X-PUBLISHED-TTL:P3D
REFRESH-INTERVAL:P3D
CALSCALE:GREGORIAN
BEGIN:VEVENT
DTSTART:20170519T170000Z
DTEND:20170519T210000Z
X-MICROSOFT-CDO-ALLDAYEVENT:FALSE
SUMMARY:14th Annual Kilted Golf Classic
DESCRIPTION:14th Annual Kilted Golf Classic to be held at Old Union Golf course in Blairsville\, GA.\nRegistration begins @ 11:am * Lunch  *  Tee time 1:00pm\n\n@ OLD UNION GOLF COURSE\n\nGreat food and prizes!\n\nFor more information\, contact Scott Carter at\n\n706-745-7359.\n\nCost per golfer $75. $10 off for each player in a kilt !\n\nHOLE  SPONSORS in 2017:\n\nBlairsville Realty\, Blue Ridge Mountain EMC\, Bud & MaryCarol Akins\, BPM Homewatch\, Brown Haven Builders\, Budget Blinds\, Busy Bee Printing\, Carter Insurance & Investments\, Cary Cox election committee\, Chapman and Chapman\, Colwell Construction Co.\, Corrugated Replacements\, DMI Collision Repair\, Eric Wood\, Eric Wood for Sheriff\, Farner Insurance Agency\, Gooch Trucking\, Jackson Insurance\, Judy Hemphill Rich Insurance\, Lakewood Capital Group\, Lamin-X\, Mack Mason\, North Ga. Technical College\, Park Sterling Bank\, Rick's Rental\, Sears of Blairsville\, Service Plumbing\, State Farm Insurance-Jerry Henderson\, The Vacuum Store\, The Wine Shoppe\, Union Co. Historical Society\, Union County Pet Hospital Union Realty\, United Community Bank\, Woodmen of the World\, Young Harris College
X-ALT-DESC;FMTTYPE=text/html:14th Annual Kilted Golf Classic to be held at Old Union Golf course in Blairsville\, GA.\n<p align="center" class="mainText"><em><strong>Registration begins @ 11:am * Lunch&nbsp\; *&nbsp\; Tee time 1:00pm</strong></em></p>\n\n<p align="center" class="mainText"><strong>@ OLD UNION GOLF COURSE</strong></p>\n\n<p align="center" class="mainText">Great food and prizes!<br />\n<strong>For more information\, contact Scott Carter at<br />\n706-745-7359.</strong></p>\n\n<p align="center" class="mainText">Cost per golfer $75. $10 off for each player in a kilt !</p>\n\n<p align="center" class="mainText">HOLE&nbsp\; SPONSORS in 2017:<br />\nBlairsville Realty\, Blue Ridge Mountain EMC\, Bud &amp\; MaryCarol Akins\, BPM Homewatch\, Brown Haven Builders\, Budget Blinds\, Busy Bee Printing\, Carter Insurance &amp\; Investments\, Cary Cox election committee\, Chapman and Chapman\, Colwell Construction Co.\, Corrugated Replacements\, DMI Collision Repair\, Eric Wood\,&nbsp\;Eric Wood for Sheriff\, Farner Insurance Agency\, Gooch Trucking\, Jackson Insurance\,&nbsp\;Judy Hemphill Rich Insurance\, Lakewood Capital Group\, Lamin-X\, Mack Mason\, North Ga. Technical College\, Park Sterling Bank\, Rick&rsquo\;s Rental\, Sears of Blairsville\, Service Plumbing\, State Farm Insurance-Jerry Henderson\, The Vacuum Store\, The Wine Shoppe\, Union Co. Historical Society\, Union County Pet Hospital&nbsp\;Union Realty\, United Community Bank\, Woodmen of the World\, Young Harris College<br />\n&nbsp\;<br />\n&nbsp\;</p>\n
LOCATION:Old Union Golf Course
UID:e.256.50546
SEQUENCE:3
DTSTAMP:20260420T005959Z
URL:https://members.visitblairsvillega.com/events/details/14th-annual-kilted-golf-classic-50546
END:VEVENT

END:VCALENDAR
