BEGIN:VCALENDAR
VERSION:2.0
PRODID:-//ChamberMaster//Event Calendar 2.0//EN
METHOD:PUBLISH
X-PUBLISHED-TTL:P3D
REFRESH-INTERVAL:P3D
CALSCALE:GREGORIAN
BEGIN:VEVENT
DTSTART:20141123T160000Z
DTEND:20141123T210000Z
X-MICROSOFT-CDO-ALLDAYEVENT:FALSE
SUMMARY:14th Annual Mistletoe Market
DESCRIPTION:14th Annual Mistletoe Market and Sugarplum Tea Room\n\nSaturday\, November 22 9am - 5pm\n\nSunday\, November 23 11am - 4pm\n\nNorth Georgia Technical College\n\n \n\nStart your holiday shopping at the Mistletoe Market.\n\nArts & crafts to spark the holiday season. Homemade soups\, sandwiches\, and goodies.
X-ALT-DESC;FMTTYPE=text/html:<div style="text-align: center\;">14th Annual Mistletoe Market and Sugarplum Tea Room<br />\nSaturday\, November 22 9am - 5pm<br />\nSunday\, November 23 11am - 4pm<br />\nNorth Georgia Technical College<br />\n&nbsp\;</div>\n\n<div style="text-align: center\;">Start your holiday shopping at the Mistletoe Market.<br />\nArts &amp\; crafts to spark the holiday season. Homemade soups\, sandwiches\, and goodies.</div>\n
LOCATION:North Georgia Technical College 121 Meeks Ave. Blairsville\, GA
UID:e.256.21978
SEQUENCE:3
DTSTAMP:20260424T045250Z
URL:https://members.visitblairsvillega.com/events/details/14th-annual-mistletoe-market-11-23-2014-21978
END:VEVENT

END:VCALENDAR
