BEGIN:VCALENDAR
VERSION:2.0
PRODID:-//ChamberMaster//Event Calendar 2.0//EN
METHOD:PUBLISH
X-PUBLISHED-TTL:P3D
REFRESH-INTERVAL:P3D
CALSCALE:GREGORIAN
BEGIN:VEVENT
DTSTART:20151122T160000Z
DTEND:20151122T210000Z
X-MICROSOFT-CDO-ALLDAYEVENT:FALSE
SUMMARY:15th Annual Mistletoe Market and Sugarplum Tea Room
DESCRIPTION:Start your holiday shopping at the Mistletoe Market. Arts and crafts will be available for sale to spark the holiday season. Homemade soups\, sandwiches\, goodies.  The Woody Gap School Steel Drum Band will be performing at this event!
X-ALT-DESC;FMTTYPE=text/html:Start your holiday shopping at the Mistletoe Market. Arts and crafts will be available for sale to spark the holiday season. Homemade soups\, sandwiches\, goodies.&nbsp\; The Woody Gap School Steel Drum Band will be performing at this event!
LOCATION:North Georgia Technical College 121 Meeks Ave Blairsville\, GA
UID:e.256.45016
SEQUENCE:3
DTSTAMP:20260423T085756Z
URL:https://members.visitblairsvillega.com/events/details/15th-annual-mistletoe-market-and-sugarplum-tea-room-11-22-2015-45016
END:VEVENT

END:VCALENDAR
