BEGIN:VCALENDAR
VERSION:2.0
PRODID:-//ChamberMaster//Event Calendar 2.0//EN
METHOD:PUBLISH
X-PUBLISHED-TTL:P3D
REFRESH-INTERVAL:P3D
CALSCALE:GREGORIAN
BEGIN:VEVENT
DTSTART:20140719T140000Z
DTEND:20140720T210000Z
X-MICROSOFT-CDO-ALLDAYEVENT:FALSE
SUMMARY:16th Annual Butternut Creek Festival
DESCRIPTION:Arts & Fine Crafts Show\, July 19 & 20\, 2014\n\nSaturday & Sunday 10AM - 5PM\n\nLocated along the shady banks of Butternut Creek at MEEKS PARK (on south side of Hwy 76/515 0.7 mile west of Hwy 19/129 traffic light).\n\nFREE Admission & FREE Parking.  \n\nWonderful exhibitors. 65-70 of the finest artists and craftsmen will be offering Woodwork\, Fabric Art\, Stained Glass\, Jewelry\, Pottery\, and more. Live Demonstrations & Entertainment\, Good Food & Fun!  \n\nSponsored by the High Country Artisans\, Inc.
X-ALT-DESC;FMTTYPE=text/html:<div>Arts &amp\; Fine Crafts Show\, July&nbsp\;19 &amp\; 20\,&nbsp\;2014<br />\nSaturday &amp\; Sunday 10AM - 5PM<br />\nLocated along the shady banks of Butternut Creek at MEEKS PARK (on south side of Hwy 76/515 0.7 mile west of Hwy 19/129 traffic light).<br />\nFREE Admission &amp\; FREE Parking. &nbsp\;<br />\nWonderful exhibitors. 65-70 of the finest artists and craftsmen will be offering Woodwork\, Fabric Art\, Stained Glass\, Jewelry\, Pottery\, and more. Live Demonstrations &amp\;&nbsp\;Entertainment\, Good Food &amp\; Fun!&nbsp\;&nbsp\;<br />\nSponsored by the High Country Artisans\, Inc.</div>\n
LOCATION:Meeks Park\, 11 Pool Lane\, Blairsville\, GA. on the South side of Hwy 76/515\, just 0.7 miles west of the Hwy 19/129 traffic light
UID:e.256.4869
SEQUENCE:3
DTSTAMP:20260424T092222Z
URL:https://members.visitblairsvillega.com/events/details/16th-annual-butternut-creek-festival-07-19-2014-4869
END:VEVENT

END:VCALENDAR
