BEGIN:VCALENDAR
VERSION:2.0
PRODID:-//ChamberMaster//Event Calendar 2.0//EN
METHOD:PUBLISH
X-PUBLISHED-TTL:P3D
REFRESH-INTERVAL:P3D
CALSCALE:GREGORIAN
BEGIN:VEVENT
DTSTART:20161119T140000Z
DTEND:20161119T210000Z
X-MICROSOFT-CDO-ALLDAYEVENT:FALSE
SUMMARY:16th Annual Mistletoe Market
DESCRIPTION:Start your holiday shopping at the Mistletoe Market. Arts and crafts will be available for sale to spark the holiday season. Homemade soups\, sandwiches\, goodies.
X-ALT-DESC;FMTTYPE=text/html:Start your holiday shopping at the Mistletoe Market. Arts and crafts will be available for sale to spark the holiday season. Homemade soups\, sandwiches\, goodies.
LOCATION:North Georgia Technical College 121 Meeks Ave Blairsville\, GA
UID:e.256.47687
SEQUENCE:3
DTSTAMP:20260420T112920Z
URL:https://members.visitblairsvillega.com/events/details/16th-annual-mistletoe-market-11-19-2016-47687
END:VEVENT

END:VCALENDAR
