BEGIN:VCALENDAR
VERSION:2.0
PRODID:-//ChamberMaster//Event Calendar 2.0//EN
METHOD:PUBLISH
X-PUBLISHED-TTL:P3D
REFRESH-INTERVAL:P3D
CALSCALE:GREGORIAN
BEGIN:VEVENT
DTSTART:20150719T140000Z
DTEND:20150719T210000Z
X-MICROSOFT-CDO-ALLDAYEVENT:FALSE
SUMMARY:17th Annual Butternut Creek Festival
DESCRIPTION:Juried Arts & Fine Crafts Show\n\nJuly 18 & 19\, 2015\n\nSaturday & Sunday 10AM - 5PM\n\nLocated along the shady banks of Butternut Creek at MEEKS PARK (on south side of Hwy 76/515 0.7 mile west of Hwy 19/129 traffic light). FREE Admission & FREE Parking. Wonderful exhibitors. 65-70 of the finest artists and craftsmen will be offering Woodwork\, Fabric Art\, Stained Glass\, Jewelry\, Pottery\, and more. Live Demonstrations & Entertainment\, Good Food & Fun!\n\nSponsored by the High Country Artisans\, Inc
X-ALT-DESC;FMTTYPE=text/html:Juried Arts &amp\; Fine Crafts Show<br />\nJuly&nbsp\;18 &amp\; 19\, 2015<br />\nSaturday &amp\; Sunday 10AM - 5PM<br />\nLocated along the shady banks of Butternut Creek at MEEKS PARK (on south side of Hwy 76/515 0.7 mile west of Hwy 19/129 traffic light). FREE Admission &amp\; FREE Parking. Wonderful exhibitors. 65-70 of the finest artists and craftsmen will be offering Woodwork\, Fabric Art\, Stained Glass\, Jewelry\, Pottery\, and more. Live Demonstrations &amp\; Entertainment\, Good Food &amp\; Fun!<br />\nSponsored by the High Country Artisans\, Inc
LOCATION:Meeks Park\, 11 Pool Lane\, Blairsville\, GA. on the South side of Hwy 76/515\, just 0.7 miles west of the Hwy 19/129 traffic light
UID:e.256.27638
SEQUENCE:3
DTSTAMP:20260423T165818Z
URL:https://members.visitblairsvillega.com/events/details/17th-annual-butternut-creek-festival-07-19-2015-27638
END:VEVENT

END:VCALENDAR
