BEGIN:VCALENDAR
VERSION:2.0
PRODID:-//ChamberMaster//Event Calendar 2.0//EN
METHOD:PUBLISH
X-PUBLISHED-TTL:P3D
REFRESH-INTERVAL:P3D
CALSCALE:GREGORIAN
BEGIN:VEVENT
DTSTART:20140427T160000Z
DTEND:20140427T160000Z
X-MICROSOFT-CDO-ALLDAYEVENT:FALSE
SUMMARY:18th Annual Bear on the Square
DESCRIPTION:Juried Traditional Mountain Craft Market\n\n2 days Free Workshops for musicians\n\nMaster Classes: fiddle\,guitar\,mandolin\,banjo\,bass\n\nStorytelling hosted by Debbie Weston-From\n\nCraft demonstrations\,Dance demonstrations\n\nLive and Silent Country Auction Friday night\n\nLuthier's Row featuring custom instruments\n\nFood Court of festival food
X-ALT-DESC;FMTTYPE=text/html:Juried Traditional Mountain Craft Market<br />\n2 days Free Workshops for musicians<br />\nMaster Classes: fiddle\,guitar\,mandolin\,banjo\,bass<br />\nStorytelling hosted by Debbie Weston-From<br />\nCraft demonstrations\,Dance demonstrations<br />\nLive and Silent Country Auction Friday night<br />\nLuthier&#39\;s Row featuring custom instruments<br />\nFood Court of festival food
LOCATION:On the Square Dahlonega\, GA
UID:e.256.23607
SEQUENCE:3
DTSTAMP:20260424T133426Z
URL:https://members.visitblairsvillega.com/events/details/18th-annual-bear-on-the-square-04-27-2014-23607
END:VEVENT

END:VCALENDAR
