BEGIN:VCALENDAR
VERSION:2.0
PRODID:-//ChamberMaster//Event Calendar 2.0//EN
METHOD:PUBLISH
X-PUBLISHED-TTL:P3D
REFRESH-INTERVAL:P3D
CALSCALE:GREGORIAN
BEGIN:VEVENT
DTSTART:20170716T140000Z
DTEND:20170716T210000Z
X-MICROSOFT-CDO-ALLDAYEVENT:FALSE
SUMMARY:19th Annual Butternut Creek Festival
DESCRIPTION:A family event nestled along the shady banks of Butternut Creek at the beautiful MEEKS PARK . A juried show of 65-70 of the southeasts finest artists and craftsmen will be offering a show of unique original art and hand-crafted works\, live music\, demonstrations and great food. \n\nSponsored by the High Country Artisans\, Inc
X-ALT-DESC;FMTTYPE=text/html:A&nbsp\;family event nestled&nbsp\;along the shady banks of Butternut Creek at the beautiful MEEKS PARK .&nbsp\;A juried show of&nbsp\;65-70 of the southeasts finest artists and craftsmen will be offering a show of unique original art and hand-crafted works\, live music\, demonstrations and great food.&nbsp\;<br />\nSponsored by the High Country Artisans\, Inc
LOCATION:Meeks Park\, 11 Pool Lane\, Blairsville\, GA. on the South side of Hwy 76/515\, just 0.7 miles west of the Hwy 19/129 traffic light
UID:e.256.62195
SEQUENCE:3
DTSTAMP:20260419T213127Z
URL:https://members.visitblairsvillega.com/events/details/19th-annual-butternut-creek-festival-07-16-2017-62195
END:VEVENT

END:VCALENDAR
