BEGIN:VCALENDAR
VERSION:2.0
PRODID:-//ChamberMaster//Event Calendar 2.0//EN
METHOD:PUBLISH
X-PUBLISHED-TTL:P3D
REFRESH-INTERVAL:P3D
CALSCALE:GREGORIAN
BEGIN:VEVENT
DTSTART:20150424T180000Z
DTEND:20150424T230000Z
X-MICROSOFT-CDO-ALLDAYEVENT:FALSE
SUMMARY:19th Annual Mountain Home Show
DESCRIPTION:The Mountain Home Show is the place to meet the people who can design\, plan\, build\, remodel\, decorate\, and improve your home.\n\nCome to the show with the ideas you have gathered for your project.\n\n\n	Ideas for your home\n\n\n\n	Exhibits from Local Businesses\n	Seminars you can attend \n	(This will be updated frequently until the show).\n\n	* How to Remodel and Get More for Less Cost \n\n	Saturday\, 12:00 PM by Richard C. MacCrea\, Mountain House Plans\n\n	* How to Save the Most Energy for the Least Cost \n\n	Saturday\, 12:30 PM by Richard C. MacCrea\, Mountain House Plans
X-ALT-DESC;FMTTYPE=text/html:<span style="font-family: times new roman\,serif\;"><span style="font-size: medium\;">The Mountain Home Show is the place to meet the people who can design\, plan\, build\, remodel\, decorate\, and improve your home.<br />\nCome to the show with the ideas you have gathered for your project.</span></span>\n\n<ul>\n	<li><span style="font-family: times new roman\,serif\;"><span style="font-size: medium\;">Ideas for your home</span></span></li>\n</ul>\n\n<ul>\n	<li><span style="font-family: times new roman\,serif\;"><span style="font-size: medium\;">Exhibits from Local Businesses</span></span></li>\n	<li><span style="font-family: times new roman\,serif\;"><span style="font-size: medium\;"><span style="font-family: times new roman\,serif\;"><span style="font-size: medium\;"><span style="font-family: times new roman\,serif\;"><span style="font-size: medium\;"><em><strong><span style="font-size: 10pt\;"><span style="font-family: tahoma\,sans-serif\;">Seminars you can attend </span></span></strong></em></span></span></span></span></span></span></li>\n	<li><span style="font-size: 10pt\;"><span style="font-family: tahoma\,sans-serif\;">(This will be updated frequently until the show).<br />\n	<em><strong><span style="font-family: tahoma\,sans-serif\;">* How to Remodel and Get More for Less Cost </span></strong></em><br />\n	Saturday\, 12:00 PM by Richard C. MacCrea\, Mountain House Plans<br />\n	<em><strong><span style="font-family: tahoma\,sans-serif\;">* How to Save the Most Energy for the Least Cost </span></strong></em><br />\n	Saturday\, 12:30 PM by Richard C. MacCrea\, Mountain House Plans</span></span><br />\n	&nbsp\;</li>\n</ul>\n
LOCATION:North Georgia Technical College 121 Meeks Avenue Blairsville\, GA
UID:e.256.27602
SEQUENCE:3
DTSTAMP:20260423T200209Z
URL:https://members.visitblairsvillega.com/events/details/19th-annual-mountain-home-show-04-24-2015-27602
END:VEVENT

END:VCALENDAR
