BEGIN:VCALENDAR
VERSION:2.0
PRODID:-//ChamberMaster//Event Calendar 2.0//EN
METHOD:PUBLISH
X-PUBLISHED-TTL:P3D
REFRESH-INTERVAL:P3D
CALSCALE:GREGORIAN
BEGIN:VEVENT
DTSTART:20150425T130000Z
DTEND:20150425T210000Z
X-MICROSOFT-CDO-ALLDAYEVENT:FALSE
SUMMARY:19th Annual Mountain Home Show
DESCRIPTION:The Mountain Home Show is the place to meet the people who can\n\ndesign\, plan\, build\, remodel\, decorate\, and improve your home.\n\nCome to the show with the ideas you have gathered for your project.\n\n\n	Ideas for your home\n\n\n\n	Exhibits from Local Businesses
X-ALT-DESC;FMTTYPE=text/html:<span style="font-family: times new roman\,serif\;"><span style="font-size: medium\;">The Mountain Home Show is the place to meet the people who can<br />\ndesign\, plan\, build\, remodel\, decorate\, and improve your home.<br />\nCome to the show with the ideas you have gathered for your project.</span></span>\n\n<ul>\n	<li><span style="font-family: times new roman\,serif\;"><span style="font-size: medium\;">Ideas for your home</span></span></li>\n</ul>\n\n<ul>\n	<li><span style="font-family: times new roman\,serif\;"><span style="font-size: medium\;">Exhibits from Local Businesses</span></span></li>\n</ul>\n
LOCATION:North Georgia Technical College 121 Meeks Avenue Blairsville\, GA
UID:e.256.27603
SEQUENCE:3
DTSTAMP:20260423T200212Z
URL:https://members.visitblairsvillega.com/events/details/19th-annual-mountain-home-show-04-25-2015-27603
END:VEVENT

END:VCALENDAR
