BEGIN:VCALENDAR
VERSION:2.0
PRODID:-//ChamberMaster//Event Calendar 2.0//EN
METHOD:PUBLISH
X-PUBLISHED-TTL:P3D
REFRESH-INTERVAL:P3D
CALSCALE:GREGORIAN
BEGIN:VEVENT
DTSTART:20140425T110000Z
DTEND:20140425T110000Z
X-MICROSOFT-CDO-ALLDAYEVENT:FALSE
SUMMARY:1st Annual Golf Tournament To Benefit the Derrick Whittle Memorial Fund
DESCRIPTION:Friday\, April 25\, 2014\n\nTournament Schedule \n\n7:00am Registration starts in Banquet Room Upstairs in Community Center\n\n8:00am Shotgun Start\n\n12:30pm Complimentary Lunch for players & sponsors\n\n\n\nTournament Information\n\n4 Man Scramble First and Second Place Prizes in Each Flight \n\n\n\nEntry fee $300 per Team or $75 per person \n\n\n\nCONTESTS INCLUDE:\n\n"Longest Drive" and "Closet to the Pin"\n\nHole-In-One on designated Par 3 wins a NEW TRUCK!!!\n\n\n\nMulligans available at registration\n\n\n\n Ways You Can Help raise money for the Derrick Whittle Memorial Fund:\n\n\n\nSponsor a Team to play in the tournament or BE a player on a team\n\n\n\n"Hole Sponsors" - donate $100 or more to the tournament and have a personalized sign on one of the holes at the Golf Course on the day of the tournament\n\n\n\nDonate any amount to the Derrick Whittle Memorial Fund.\n\n\n\nRegister and pay at the\n\nButternut Creek Golf Course\n\n129 Union County Rec Road\n\nBlairsville\, GA\n\n\n\nProceeds will benefit Union County High School graduating seniors with scholarships in 2014.
X-ALT-DESC;FMTTYPE=text/html:<strong>Friday\, April 25\, 2014</strong><br />\n<strong>Tournament Schedule </strong><br />\n<span style="font-family: tahoma\;">7:00am Registration starts in Banquet Room Upstairs in Community Center<br />\n8:00am Shotgun Start<br />\n12:30pm Complimentary Lunch for players &amp\; sponsors<br />\n<br />\n<strong>Tournament Information</strong><br />\n<span style="font-family: tahoma\;">4 Man Scramble First and Second Place Prizes in Each Flight </span></span><br />\n<br />\nEntry fee $300 per Team or $75 per&nbsp\;person&nbsp\;<br />\n<br />\n<strong>CONTESTS&nbsp\;INCLUDE:</strong><br />\n&quot\;Longest Drive&quot\; and &quot\;Closet to the Pin&quot\;<br />\nHole-In-One on designated Par 3 wins a NEW TRUCK!!!<br />\n<br />\nMulligans available at registration<br />\n<br />\n<strong>&nbsp\;Ways You Can Help raise money for the </strong><em><strong>Derrick Whittle Memorial Fund:<br />\n<br />\nSponsor a Team </strong></em>to play in the tournament or BE a player on a team<br />\n<br />\n<strong>&quot\;Hole Sponsors&quot\; </strong>- donate $100 or more to the tournament and have a personalized sign on one of the holes at the Golf Course on the day of the tournament<br />\n<br />\n<strong>Donate any amount</strong> to the Derrick Whittle Memorial Fund.<br />\n<br />\nRegister and pay at the<br />\nButternut Creek Golf Course<br />\n129 Union County Rec Road<br />\nBlairsville\, GA<br />\n<br />\nProceeds will benefit Union County High School graduating seniors with scholarships in 2014.<br />\n<br />\n&nbsp\;
LOCATION:Butternut Creek Golf Course 129 Union County Rec Road Blairsville\, GA
UID:e.256.22872
SEQUENCE:3
DTSTAMP:20260424T134058Z
URL:https://members.visitblairsvillega.com/events/details/1st-annual-golf-tournament-to-benefit-the-derrick-whittle-memorial-fund-04-25-2014-22872
END:VEVENT

END:VCALENDAR
