BEGIN:VCALENDAR
VERSION:2.0
PRODID:-//ChamberMaster//Event Calendar 2.0//EN
METHOD:PUBLISH
X-PUBLISHED-TTL:P3D
REFRESH-INTERVAL:P3D
CALSCALE:GREGORIAN
BEGIN:VEVENT
DTSTART:20150411T120000Z
DTEND:20150411T180000Z
X-MICROSOFT-CDO-ALLDAYEVENT:FALSE
SUMMARY:1st Annual Spring YARD SALE
DESCRIPTION:Please join us for our 1st Annual Spring Yard Sale!! Starts at 8am. At least 8 people set up with TONS of stuff. Last year at our 1st Annual Labor Day Yard Sale\, we had so much traffic we ran out of parking! And people walked away happy\, with great deals!!\n\n\n\n  Located at 23 Dyer Rdg\, Blairsville. This is 3.5 miles North on Murphy Hwy from downtown Blairsville.
X-ALT-DESC;FMTTYPE=text/html:<h2><span style="font-size: 14px\;"><span style="font-family: tahoma\;"><strong>Please join us for our 1st Annual Spring Yard Sale!! Starts at 8am. At least 8 people set up with TONS of stuff. Last year at our 1st Annual Labor Day Yard Sale\, we had so much traffic we ran out of parking! And people walked away happy\, with great deals!!<br />\n<br />\n&nbsp\; Located at 23 Dyer Rdg\, Blairsville. This is 3.5 miles North on Murphy Hwy from downtown Blairsville.</strong></span></span></h2>\n
LOCATION:23 Dyer Rdg\, Blairsville\, GA 30512
UID:e.256.37912
SEQUENCE:3
DTSTAMP:20260423T200211Z
URL:https://members.visitblairsvillega.com/events/details/1st-annual-spring-yard-sale-04-11-2015-37912
END:VEVENT

END:VCALENDAR
