BEGIN:VCALENDAR
VERSION:2.0
PRODID:-//ChamberMaster//Event Calendar 2.0//EN
METHOD:PUBLISH
X-PUBLISHED-TTL:P3D
REFRESH-INTERVAL:P3D
CALSCALE:GREGORIAN
BEGIN:VEVENT
DTSTART:20140919T130000Z
DTEND:20140920T000000Z
X-MICROSOFT-CDO-ALLDAYEVENT:FALSE
SUMMARY:2014 Biennial Conference of the Foot Trails Coalition
DESCRIPTION:Join us for hikes\, workshops on all sorts of hiking related topics with nationally known speakers\, lots of fun and great food! Our headquarters for the Conference will be the Union County Community Center in Blairsville and the new Comfort Inn right next door.\n\nVisit our website for details and registration information: www.southeasternfoottrails.org\n\nOur speakers include: Ron Tipton Executive Director\, Appalachian Trail Conservancy and Janet Zeller\, Manager\, U.S. Forest Service Accessibility Office\, Washington\, DC\n\nThursday\, Sept. 18\n\n11:00 a.m. - Registration desk opens at Community Center\n\n1:00 p.m.   Short hikes available in area   depart Community Center parking\n\n\n\nFriday\, Sept. 19\n\n9:00 11:40 a.m.   General Welcome and Opening Plenary Session\n\n1:15 2:45 p.m. & 3:00-4:30   Workshops\n\n6:00-6:30 p.m.   Short lake/waterfall hike at Vogel State Park\n\n* 6:30 p.m.   Barbeque and program\, indoor pavilion at Vogel State Park\n\n\n\nSaturday\, Sept. 20 \n\nHike Day   Hikes begin as early as 8 & 9 a.m.   some are all day\, some half-day\n\nAll hikes leave from the Union County Community Center south parking lot\n\n* 6:00 p.m. Banquet\, Brackett Center\, Blairsville\n\nSpeaker: Ronald J. Tipton\, Executive Director\,\n\nAppalachian Trail Conservancy\n\nSunday\, Sept. 21\n\n8:30   10:00 a.m.   Workshops\n\n10:05   10:45 a.m.   SEFTC General Business Meeting\n\n11:00 a.m. Some short hikes or leave for home\n\n\n\n*Indicates a separate meal fee shown on the registration form
X-ALT-DESC;FMTTYPE=text/html:Join us for hikes\, workshops on all sorts of hiking related topics with nationally known speakers\, lots of fun and great food! Our headquarters for the Conference will be the Union County Community Center in Blairsville and the new Comfort Inn right next door.<br />\nVisit our website for details and registration information: www.southeasternfoottrails.org<br />\nOur speakers include: Ron Tipton Executive Director\, Appalachian Trail Conservancy and Janet Zeller\, Manager\, U.S. Forest Service Accessibility Office\, Washington\, DC<br />\n<strong><span style="font-size: 8pt\;"><span style="font-family: arial\,sans-serif\;"><span style="color: black\;">Thursday\, Sept. 18</span></span></span></strong><br />\n<span style="font-size: 8pt\;"><span style="font-family: arial\,sans-serif\;"><span style="color: black\;"><span style="word-spacing: 0px\; orphans: 2\; widows: 2\; -webkit-border-horizontal-spacing: 0px\; -webkit-border-vertical-spacing: 0px\; -webkit-text-decorations-in-effect: none\; -webkit-text-size-adjust: auto\; -webkit-text-stroke-width: 0px\;">11:00 a.m. - Registration desk opens at Community Center</span><br />\n1:00 p.m. &ndash\; Short hikes available in area &ndash\; depart Community Center parking</span><br />\n<br />\n<strong><span style="word-spacing: 0px\; orphans: 2\; widows: 2\; -webkit-border-horizontal-spacing: 0px\; -webkit-border-vertical-spacing: 0px\; -webkit-text-decorations-in-effect: none\; -webkit-text-size-adjust: auto\; -webkit-text-stroke-width: 0px\;">Friday\, Sept. 19</span></strong></span><br />\n<span style="word-spacing: 0px\; orphans: 2\; widows: 2\; -webkit-border-horizontal-spacing: 0px\; -webkit-border-vertical-spacing: 0px\; -webkit-text-decorations-in-effect: none\; -webkit-text-size-adjust: auto\; -webkit-text-stroke-width: 0px\;">9:00&ndash\;11:40 a.m. &ndash\; General Welcome and Opening Plenary Session</span><br />\n1:15&ndash\;2:45 p.m. &amp\; 3:00-4:30 &ndash\; Workshops</span><br />\n6:00-6:30 p.m. &ndash\; Short lake/waterfall hike at Vogel State Park<br />\n* 6:30 p.m. &ndash\; Barbeque and program\, indoor pavilion at Vogel State Park<br />\n<br />\n<strong><span style="word-spacing: 0px\; orphans: 2\; widows: 2\; -webkit-border-horizontal-spacing: 0px\; -webkit-border-vertical-spacing: 0px\; -webkit-text-decorations-in-effect: none\; -webkit-text-size-adjust: auto\; -webkit-text-stroke-width: 0px\;">Saturday\, Sept. 20 </span></strong><br />\n<span style="word-spacing: 0px\; orphans: 2\; widows: 2\; -webkit-border-horizontal-spacing: 0px\; -webkit-border-vertical-spacing: 0px\; -webkit-text-decorations-in-effect: none\; -webkit-text-size-adjust: auto\; -webkit-text-stroke-width: 0px\;">Hike Day &ndash\; Hikes begin as early as 8 &amp\; 9 a.m. &ndash\; some are all day\, some half-day</span><br />\nAll hikes leave from the Union County Community Center south parking lot<br />\n* 6:00 p.m. Banquet\, Brackett Center\, Blairsville<br />\nSpeaker: Ronald J. Tipton\, Executive Director\,<br />\nAppalachian Trail Conservancy<br />\n<strong><span style="font-size: 8pt\;"><span style="font-family: arial\,sans-serif\;"><span style="color: black\;"><span style="word-spacing: 0px\; orphans: 2\; widows: 2\; -webkit-border-horizontal-spacing: 0px\; -webkit-border-vertical-spacing: 0px\; -webkit-text-decorations-in-effect: none\; -webkit-text-size-adjust: auto\; -webkit-text-stroke-width: 0px\;">Sunday\, Sept. 21</span></span></span></span></strong><br />\n<span style="font-size: 8pt\;"><span style="font-family: arial\,sans-serif\;"><span style="color: black\;"><span style="word-spacing: 0px\; orphans: 2\; widows: 2\; -webkit-border-horizontal-spacing: 0px\; -webkit-border-vertical-spacing: 0px\; -webkit-text-decorations-in-effect: none\; -webkit-text-size-adjust: auto\; -webkit-text-stroke-width: 0px\;">8:30 &ndash\; 10:00 a.m. &ndash\; Workshops</span><br />\n10:05 &ndash\; 10:45 a.m. &ndash\; SEFTC General Business Meeting</span><br />\n11:00 a.m. Some short hikes or leave for home</span><br />\n<br />\n*Indicates a separate meal fee shown on the registration form</span><br />\n<br />\n<br />\n&nbsp\;
LOCATION:Union County Community Center 129 Union County Rec Rd. Blairsville\, GA
UID:e.256.25404
SEQUENCE:3
DTSTAMP:20260424T074100Z
URL:https://members.visitblairsvillega.com/events/details/2014-biennial-conference-of-the-foot-trails-coalition-09-19-2014-25404
END:VEVENT

END:VCALENDAR
