BEGIN:VCALENDAR
VERSION:2.0
PRODID:-//ChamberMaster//Event Calendar 2.0//EN
METHOD:PUBLISH
X-PUBLISHED-TTL:P3D
REFRESH-INTERVAL:P3D
CALSCALE:GREGORIAN
BEGIN:VEVENT
DTSTART:20140920T203000Z
DTEND:20140921T000000Z
X-MICROSOFT-CDO-ALLDAYEVENT:FALSE
SUMMARY:2014 Harvest Dinner at The Sawmill Place
DESCRIPTION:The Sawmill Place presents " 2014 Harvest Dinner"\n\nSaturday\, September 20\, 2014\n\n4:30pm - 8:00pm\n\nRSVP is requested\, please call (706) 745-1250\n\n\n\nTonight's Menu utilizes the following local farmers & purveyors:\n\nUnion County Farmers Market\, Logan Turnpike Mill\, Mercier Orchards\, Jumping Goat Coffee\, Brasstown Beef\, Mountain View Farms\, Clifty Farms\, Nantahala Meats\, Gabe's Greens\, Freddie Collins Farm\, Tim Dyer's Blueberry Patch\, & Hughes Sorghum Mill.
X-ALT-DESC;FMTTYPE=text/html:The Sawmill Place presents &quot\; 2014 Harvest Dinner&quot\;<br />\nSaturday\, September 20\, 2014<br />\n4:30pm - 8:00pm<br />\n<strong>RSVP is requested</strong>\, please call (706) 745-1250<br />\n<br />\nTonight&#39\;s Menu utilizes the following local farmers &amp\; purveyors:<br />\nUnion County Farmers Market\, Logan Turnpike Mill\, Mercier Orchards\, Jumping Goat Coffee\, Brasstown Beef\, Mountain View Farms\, Clifty Farms\, Nantahala Meats\, Gabe&#39\;s Greens\, Freddie Collins Farm\, Tim Dyer&#39\;s Blueberry Patch\, &amp\; Hughes Sorghum Mill.<br />\n<br />\n<br />\n<br />\n&nbsp\;
LOCATION:The Sawmill Place 1150 Pat Haralson Memorial Dr. Blairsville
UID:e.256.27295
SEQUENCE:3
DTSTAMP:20260424T063048Z
URL:https://members.visitblairsvillega.com/events/details/2014-harvest-dinner-at-the-sawmill-place-09-20-2014-27295
END:VEVENT

END:VCALENDAR
