BEGIN:VCALENDAR
VERSION:2.0
PRODID:-//ChamberMaster//Event Calendar 2.0//EN
METHOD:PUBLISH
X-PUBLISHED-TTL:P3D
REFRESH-INTERVAL:P3D
CALSCALE:GREGORIAN
BEGIN:VEVENT
DTSTART:20141213T200000Z
DTEND:20141213T230000Z
X-MICROSOFT-CDO-ALLDAYEVENT:FALSE
SUMMARY:2014 Holly Jolly Christmas and Tour of Trees
DESCRIPTION:Beautiful decorated trees and wreaths\, events for children\, musical performances\, refreshments served.\n\nSponsored by:\n\nUnion General Hospital\, Inc.\n\nUnion General Wellness Center
X-ALT-DESC;FMTTYPE=text/html:<div style="text-align: center\;">Beautiful decorated trees and wreaths\,&nbsp\;events for children\, musical performances\, refreshments served.<br />\nSponsored by:<br />\nUnion General Hospital\, Inc.<br />\nUnion General Wellness Center</div>\n
LOCATION:Union County Community Center 129 Union County Rec Rd Blairsville\, GA
UID:e.256.22018
SEQUENCE:3
DTSTAMP:20260424T020749Z
URL:https://members.visitblairsvillega.com/events/details/2014-holly-jolly-christmas-and-tour-of-trees-12-13-2014-22018
END:VEVENT

END:VCALENDAR
