BEGIN:VCALENDAR
VERSION:2.0
PRODID:-//ChamberMaster//Event Calendar 2.0//EN
METHOD:PUBLISH
X-PUBLISHED-TTL:P3D
REFRESH-INTERVAL:P3D
CALSCALE:GREGORIAN
BEGIN:VEVENT
DTSTART:20140322T170000Z
DTEND:20140322T210000Z
X-MICROSOFT-CDO-ALLDAYEVENT:FALSE
SUMMARY:2014 Music in the Vines at Crane Creek Vineyards
DESCRIPTION:Music in the Vines with Wyatt Espalin\n\nCrane Creek Vineyards\n\n1:00pm - 5:00pm
X-ALT-DESC;FMTTYPE=text/html:Music in the Vines with Wyatt Espalin<br />\nCrane Creek Vineyards<br />\n1:00pm - 5:00pm
LOCATION:Crane Creek Vineyards 916 Crane Creek Road Young Harris\, GA
UID:e.256.23367
SEQUENCE:3
DTSTAMP:20260424T152401Z
URL:https://members.visitblairsvillega.com/events/details/2014-music-in-the-vines-at-crane-creek-vineyards-03-22-2014-23367
END:VEVENT

END:VCALENDAR
