BEGIN:VCALENDAR
VERSION:2.0
PRODID:-//ChamberMaster//Event Calendar 2.0//EN
METHOD:PUBLISH
X-PUBLISHED-TTL:P3D
REFRESH-INTERVAL:P3D
CALSCALE:GREGORIAN
BEGIN:VEVENT
DTSTART:20141018T133000Z
DTEND:20141018T150000Z
X-MICROSOFT-CDO-ALLDAYEVENT:FALSE
SUMMARY:2014 NGTC Annual Alumni Awards Breakfast
DESCRIPTION:All North Georgia Technical College Alumni and friends of the college are invited to the annual meeting scheduled for Saturday\, October 18\, in the Clarkesville Campus Dining Hall Annex. The buffet breakfast begins at 9:30 a.m. and is followed by the business meeting and awards ceremony.\n\nThe winner of the Hall of Fame Award is Jim Marlowe\, former President of the College. Joining him will be Career Achievement Award Winners Jeannie Barrett\, Ricky Crocker and Morris Harrison.
X-ALT-DESC;FMTTYPE=text/html:<span style="font-size:14.0pt\;">All North Georgia Technical College Alumni and friends of the college are invited to the annual meeting scheduled for Saturday\, October 18\, in the Clarkesville Campus Dining Hall Annex. The buffet breakfast begins at 9:30 a.m. and is followed by the business meeting and awards ceremony.</span><br />\n<span style="font-size:14.0pt\;">The winner of the Hall of Fame Award is Jim Marlowe\, former President of the College. Joining him will be Career Achievement Award Winners Jeannie Barrett\, Ricky Crocker and Morris Harrison.</span>
LOCATION:Clarkesville Campus Dining Hall Annex 1500 Hwy 197 N Clarksville\, GA 1500 Hwy 197 N Clarkesville\, GA 1500 Hwy 197 N Clarkesville\, GA
UID:e.256.27600
SEQUENCE:3
DTSTAMP:20260424T045155Z
URL:https://members.visitblairsvillega.com/events/details/2014-ngtc-annual-alumni-awards-breakfast-10-18-2014-27600
END:VEVENT

END:VCALENDAR
