BEGIN:VCALENDAR
VERSION:2.0
PRODID:-//ChamberMaster//Event Calendar 2.0//EN
METHOD:PUBLISH
X-PUBLISHED-TTL:P3D
REFRESH-INTERVAL:P3D
CALSCALE:GREGORIAN
BEGIN:VEVENT
DTSTART:20141018T160000Z
DTEND:20141018T190000Z
X-MICROSOFT-CDO-ALLDAYEVENT:FALSE
SUMMARY:2014 NGTC Homecoming Car Show
DESCRIPTION:The 2014 NGTC Homecoming Car Show\, sponsored by Billy Cain Ford-Lincoln\, will be held on Saturday\, October 18\, on the Clarkesville Campus of North Georgia Technical College. Awards will be given for Best of Show\, Best Ford\, Best Mopar\, Best GM\, Best Truck\, Best Special Interest\, Best Unfinished\, Best Rat Rod\, Best Late Model and Top 15.\n\nThere will be music\, door prizes\, food and two special events.  At 2:00\, the Goes 'til it Blows Contest will be held and at 2:30 the Burnout Competition is scheduled.
X-ALT-DESC;FMTTYPE=text/html:<span style="font-family:calibri\,sans-serif\;"><span style="font-size:14.0pt\;">The 2014 NGTC Homecoming Car Show\, sponsored by Billy Cain Ford-Lincoln\, will be held on Saturday\, October 18\, on the Clarkesville Campus of North Georgia Technical College. Awards will be given for Best of Show\, Best Ford\, Best Mopar\, Best GM\, Best Truck\, Best Special Interest\, Best Unfinished\, Best Rat Rod\, Best Late Model and Top 15.<br />\nThere will be music\, door prizes\, food and two special events.&nbsp\; At 2:00\, the Goes &lsquo\;til it Blows Contest will be held and at 2:30 the Burnout Competition is scheduled.</span></span><br />\n&nbsp\;
LOCATION:Clarkesville Campus of North Georgia Technical College 1500 Hwy 197 N Clarkesville\, GA
UID:e.256.27599
SEQUENCE:3
DTSTAMP:20260424T045440Z
URL:https://members.visitblairsvillega.com/events/details/2014-ngtc-homecoming-car-show-10-18-2014-27599
END:VEVENT

END:VCALENDAR
