BEGIN:VCALENDAR
VERSION:2.0
PRODID:-//ChamberMaster//Event Calendar 2.0//EN
METHOD:PUBLISH
X-PUBLISHED-TTL:P3D
REFRESH-INTERVAL:P3D
CALSCALE:GREGORIAN
BEGIN:VEVENT
DTSTART:20141024T220000Z
DTEND:20141025T020000Z
X-MICROSOFT-CDO-ALLDAYEVENT:FALSE
SUMMARY:2014 Punkin Chunkin
DESCRIPTION:Friday\, October 24\n\nChili and Anything Pumkin Cook - Off\n\n6pm on the Hayesville Square\n\n$5.00 charge for tasting\n\nPrizes - Fun
X-ALT-DESC;FMTTYPE=text/html:Friday\, October 24<br />\nChili and Anything Pumkin Cook - Off<br />\n6pm on the Hayesville Square<br />\n$5.00 charge for tasting<br />\nPrizes - Fun
LOCATION:811 Settawig Rd. Brasstown\, NC
UID:e.256.27687
SEQUENCE:3
DTSTAMP:20260424T045041Z
URL:https://members.visitblairsvillega.com/events/details/2014-punkin-chunkin-10-24-2014-27687
END:VEVENT

END:VCALENDAR
