BEGIN:VCALENDAR
VERSION:2.0
PRODID:-//ChamberMaster//Event Calendar 2.0//EN
METHOD:PUBLISH
X-PUBLISHED-TTL:P3D
REFRESH-INTERVAL:P3D
CALSCALE:GREGORIAN
BEGIN:VEVENT
DTSTART:20141025T140000Z
DTEND:20141025T220000Z
X-MICROSOFT-CDO-ALLDAYEVENT:FALSE
SUMMARY:2014 Punkin Chunkin
DESCRIPTION:Saturday\, October 25\n\n10:00am - 6:00pm\n\nKid's Area Open\n\nBungee\, Rock Wall\n\nBeer & Wine Tents Open\n\nAirplane Rides \n\nMachines Preview\n\nMusic at the Entertainment Green Building\n\nPumpkin Roll\n\nPunkin Chunkin time & Spud Gun Competition
X-ALT-DESC;FMTTYPE=text/html:<span style="font-size: medium\;"><span style="font-family: calibri\;">Saturday\, October 25</span></span><br />\n<span style="font-size: medium\;"><span style="font-family: calibri\;">10:00am - 6:00pm</span></span><br />\n<span style="font-size: medium\;"><span style="font-family: calibri\;">Kid&#39\;s Area Open</span></span><br />\n<span style="font-size: medium\;"><span style="font-family: calibri\;">Bungee\, Rock Wall</span></span><br />\n<span style="font-size: medium\;"><span style="font-family: calibri\;">Beer &amp\; Wine Tents Open</span></span><br />\n<span style="font-size: medium\;"><span style="font-family: calibri\;">Airplane Rides </span></span><br />\n<span style="font-size: medium\;"><span style="font-family: calibri\;">Machines Preview</span></span><br />\n<span style="font-size: medium\;"><span style="font-family: calibri\;">Music at the Entertainment Green Building</span></span><br />\n<span style="font-size: medium\;"><span style="font-family: calibri\;">Pumpkin Roll</span></span><br />\n<span style="font-size: medium\;"><span style="font-family: calibri\;">Punkin Chunkin time &amp\; Spud Gun Competition </span></span><br />\n&nbsp\;
LOCATION:811 Settawig Rd Brasstown\, NC
UID:e.256.27688
SEQUENCE:3
DTSTAMP:20260424T061247Z
URL:https://members.visitblairsvillega.com/events/details/2014-punkin-chunkin-10-25-2014-27688
END:VEVENT

END:VCALENDAR
