BEGIN:VCALENDAR
VERSION:2.0
PRODID:-//ChamberMaster//Event Calendar 2.0//EN
METHOD:PUBLISH
X-PUBLISHED-TTL:P3D
REFRESH-INTERVAL:P3D
CALSCALE:GREGORIAN
BEGIN:VEVENT
DTSTART:20141026T160000Z
DTEND:20141026T210000Z
X-MICROSOFT-CDO-ALLDAYEVENT:FALSE
SUMMARY:2014 Punkin Chunkin
DESCRIPTION:Sunday\, October 26\n\n12noon - 5:00pm\n\nKid's Area Open\n\nZip Lines\, Bungee\, Rock Wall Open\n\nBeer & Wine Tents Open \n\nFood & Craft Vendors Open \n\nAirplane Rides\n\nMachines Preview\n\nPie Eating Contest at the Green Building
X-ALT-DESC;FMTTYPE=text/html:<span style="font-size: medium\;"><span style="font-family: calibri\;">Sunday\, October 26</span></span><br />\n<span style="font-size: medium\;"><span style="font-family: calibri\;">12noon - 5:00pm</span></span><br />\n<span style="font-size: medium\;"><span style="font-family: calibri\;">Kid&#39\;s Area Open</span></span><br />\n<span style="font-size: medium\;"><span style="font-family: calibri\;">Zip Lines\, Bungee\, Rock Wall Open</span></span><br />\n<span style="font-size: medium\;"><span style="font-family: calibri\;">Beer &amp\; Wine Tents Open </span></span><br />\n<span style="font-size: medium\;"><span style="font-family: calibri\;">Food &amp\; Craft Vendors Open </span></span><br />\n<span style="font-size: medium\;"><span style="font-family: calibri\;">Airplane Rides</span></span><br />\n<span style="font-size: medium\;"><span style="font-family: calibri\;">Machines Preview</span></span><br />\n<span style="font-size: medium\;"><span style="font-family: calibri\;">Pie Eating Contest at the Green Building</span></span><br />\n&nbsp\;
LOCATION:811 Settawig Rd Brasstown\, NC
UID:e.256.27689
SEQUENCE:3
DTSTAMP:20260424T045036Z
URL:https://members.visitblairsvillega.com/events/details/2014-punkin-chunkin-10-26-2014-27689
END:VEVENT

END:VCALENDAR
