BEGIN:VCALENDAR
VERSION:2.0
PRODID:-//ChamberMaster//Event Calendar 2.0//EN
METHOD:PUBLISH
X-PUBLISHED-TTL:P3D
REFRESH-INTERVAL:P3D
CALSCALE:GREGORIAN
BEGIN:VEVENT
DTSTART:20151205T190000Z
DTEND:20151205T210000Z
X-MICROSOFT-CDO-ALLDAYEVENT:FALSE
SUMMARY:2015 Annual Holiday Concert presented by University of North Georgia Dept. of Music
DESCRIPTION:"My Song in the Night" \n\nPresented by UNG Chorale and Men's Ensemble
X-ALT-DESC;FMTTYPE=text/html:<span style="font-size: medium\;"><span style="font-family: calibri\;">&quot\;My Song in the Night&quot\; </span></span><br />\n<span style="font-size: 11pt\;"><span style="font-family: calibri\,sans-serif\;">Presented by UNG Chorale and Men&#39\;s Ensemble</span></span>
LOCATION:Blue Ridge Mountain Arts Center
UID:e.256.44347
SEQUENCE:3
DTSTAMP:20260421T074825Z
URL:https://members.visitblairsvillega.com/events/details/2015-annual-holiday-concert-presented-by-university-of-north-georgia-dept-of-music-12-05-2015-44347
END:VEVENT

END:VCALENDAR
