BEGIN:VCALENDAR
VERSION:2.0
PRODID:-//ChamberMaster//Event Calendar 2.0//EN
METHOD:PUBLISH
X-PUBLISHED-TTL:P3D
REFRESH-INTERVAL:P3D
CALSCALE:GREGORIAN
BEGIN:VEVENT
DTSTART:20151105T190000Z
DTEND:20151105T230000Z
X-MICROSOFT-CDO-ALLDAYEVENT:FALSE
SUMMARY:2015 NE Ga Regional Career Expo
DESCRIPTION:Connect With Local Employers - Achieve Your Career Goals - Explore Your Career Options - Be Prepared for Interviews - Bring Several Copies of Your Resume - Dress for Success.
X-ALT-DESC;FMTTYPE=text/html:Connect With Local Employers - Achieve Your Career Goals - Explore Your Career Options - Be Prepared for Interviews - Bring Several Copies of Your Resume - Dress for Success.<br />\n&nbsp\;
LOCATION:Piedmont College Student Commons Building 375 Georgia Street\, Demorest\, Ga 30535
UID:e.256.44426
SEQUENCE:3
DTSTAMP:20260423T085541Z
URL:https://members.visitblairsvillega.com/events/details/2015-ne-ga-regional-career-expo-11-05-2015-44426
END:VEVENT

END:VCALENDAR
