BEGIN:VCALENDAR
VERSION:2.0
PRODID:-//ChamberMaster//Event Calendar 2.0//EN
METHOD:PUBLISH
X-PUBLISHED-TTL:P3D
REFRESH-INTERVAL:P3D
CALSCALE:GREGORIAN
BEGIN:VEVENT
DTSTART:20150613T153000Z
DTEND:20150613T173000Z
X-MICROSOFT-CDO-ALLDAYEVENT:FALSE
SUMMARY:2015 NGTC Alumni Lunch & Awards Ceremony
DESCRIPTION:Please join us for the 2015 NGTC Alumni Lunch & Awards Ceremony. Outstanding alumni's will be recognized.
X-ALT-DESC;FMTTYPE=text/html:Please join us for the 2015 NGTC Alumni Lunch &amp\; Awards Ceremony. Outstanding alumni&#39\;s will be recognized.
LOCATION:North Georgia Technical College - Clarkesville Campus Ramsey-Hunter Dining Hall Annex
UID:e.256.40315
SEQUENCE:3
DTSTAMP:20260423T165426Z
URL:https://members.visitblairsvillega.com/events/details/2015-ngtc-alumni-lunch-awards-ceremony-06-13-2015-40315
END:VEVENT

END:VCALENDAR
