BEGIN:VCALENDAR
VERSION:2.0
PRODID:-//ChamberMaster//Event Calendar 2.0//EN
METHOD:PUBLISH
X-PUBLISHED-TTL:P3D
REFRESH-INTERVAL:P3D
CALSCALE:GREGORIAN
BEGIN:VEVENT
DTSTART:20150122T230000Z
DTEND:20150123T003000Z
X-MICROSOFT-CDO-ALLDAYEVENT:FALSE
SUMMARY:2015 Relay for Life Anniversary & Kick Off
DESCRIPTION:The 2015 Event Leadership Team would like to invite you to join us at our 2015 Anniversary & Kick Off. Come learn more about Relay for Life\, the American Cancer Society\, and how funds raised helps to fund lifesaving research and local patient service and programs.\n\nCelebrating 30 Years Strong! With the dedication of 16 teams\, 10 volunteer leaders\, and over 60 sponsors\; last year Relay for Life of Union County raised over $72\,000!
X-ALT-DESC;FMTTYPE=text/html:The 2015 Event Leadership Team would like to invite you to join us at our 2015 Anniversary &amp\; Kick Off. Come learn more about Relay for Life\, the American Cancer Society\, and how funds raised helps to fund lifesaving research and local patient service and programs.<br />\nCelebrating 30 Years Strong! With the dedication of 16 teams\, 10 volunteer leaders\, and over 60 sponsors\; last year Relay for Life of Union County raised over $72\,000!
LOCATION:Mountain Presbyterian Church 3831 HWY 515
UID:e.256.33661
SEQUENCE:3
DTSTAMP:20260424T003356Z
URL:https://members.visitblairsvillega.com/events/details/2015-relay-for-life-anniversary-kick-off-01-22-2015-33661
END:VEVENT

END:VCALENDAR
