BEGIN:VCALENDAR
VERSION:2.0
PRODID:-//ChamberMaster//Event Calendar 2.0//EN
METHOD:PUBLISH
X-PUBLISHED-TTL:P3D
REFRESH-INTERVAL:P3D
CALSCALE:GREGORIAN
BEGIN:VEVENT
DTSTART:20150423T230000Z
DTEND:20150424T003000Z
X-MICROSOFT-CDO-ALLDAYEVENT:FALSE
SUMMARY:2015 UGH Lifelong Weight Management Program
DESCRIPTION:Lifelong Weight Management classes will meet weekly for 10 weeks.\n\nLearn how to successfully achieve and maintain your ideal weight\, feel better\, and live a longer\, more productive life.
X-ALT-DESC;FMTTYPE=text/html:<span style="font-size:12px\;"><span style="font-family: verdana\;">Lifelong Weight Management classes will meet weekly for 10 weeks.<br />\nLearn how to successfully achieve and maintain your ideal weight\, feel better\, and live a longer\, more productive life.</span></span>
LOCATION:Union General Hospital 2nd floor classroom
UID:e.256.38078
SEQUENCE:3
DTSTAMP:20260423T200139Z
URL:https://members.visitblairsvillega.com/events/details/2015-ugh-lifelong-weight-management-program-04-23-2015-38078
END:VEVENT

END:VCALENDAR
