BEGIN:VCALENDAR
VERSION:2.0
PRODID:-//ChamberMaster//Event Calendar 2.0//EN
METHOD:PUBLISH
X-PUBLISHED-TTL:P3D
REFRESH-INTERVAL:P3D
CALSCALE:GREGORIAN
BEGIN:VEVENT
DTSTART:20161029T120000Z
DTEND:20161029T220000Z
X-MICROSOFT-CDO-ALLDAYEVENT:FALSE
SUMMARY:2016 Fall Hammer-In & Metalwork Event at Trackrock Campground & Cabins
DESCRIPTION:Don't miss this great family event!  Mark your calendar Friday\, October 28th and Saturday\, October 29th for the Fall Hammer-In at Trackrock. \nActivities include bladesmithing\, hawk forging\, leather crafting and forge building.  Watch\, meet and talk with several talented bladesmiths.  See what it takes to transform old discarded steel scrap metal into functional works of art. Fine craftsmen from several states attend\, some collectors bring their collections to display\, knife making supply vendors participate and others come just like to look and talk knives. \n\nThis is a family oriented event open to all with no admission fees\, so come join in the fun!  More info at www.georgiaknifemakersguild.com
X-ALT-DESC;FMTTYPE=text/html:Don&#39\;t miss this great family event!&nbsp\; Mark your calendar&nbsp\;Friday\, October 28th and Saturday\, October 29th&nbsp\;for the Fall Hammer-In at Trackrock.&nbsp\;\n<p>Activities include bladesmithing\, hawk forging\, leather crafting and forge building.&nbsp\; Watch\, meet and talk with several talented bladesmiths.&nbsp\; See what it takes to transform old discarded steel scrap metal into functional works of art. Fine craftsmen from several states attend\, some collectors bring their collections to display\, knife&nbsp\;making supply vendors participate and&nbsp\;others come just like to look and talk knives.&nbsp\;</p>\n\n<p>This is a family oriented event open to all with no admission fees\, so come join in the fun!&nbsp\; More info at <a href="http://www.georgiaknifemakersguild.com/" target="_blank">www.georgiaknifemakersguild.com</a></p>\n
LOCATION:Trackrock Campground & Cabins 141 Trackrock Camp Road Blairsville\, Georgia
UID:e.256.53044
SEQUENCE:3
DTSTAMP:20260420T131436Z
URL:https://members.visitblairsvillega.com/events/details/2016-fall-hammer-in-metalwork-event-at-trackrock-campground-cabins-10-29-2016-53044
END:VEVENT

END:VCALENDAR
