BEGIN:VCALENDAR
VERSION:2.0
PRODID:-//ChamberMaster//Event Calendar 2.0//EN
METHOD:PUBLISH
X-PUBLISHED-TTL:P3D
REFRESH-INTERVAL:P3D
CALSCALE:GREGORIAN
BEGIN:VEVENT
DTSTART:20160301T150000Z
DTEND:20160301T230000Z
X-MICROSOFT-CDO-ALLDAYEVENT:FALSE
SUMMARY:2016 Job Fair at The Ridges Resort & Marina
DESCRIPTION:Join Us for the 2016 Job Fair at The Ridges Resort & Marina. Openings in all departments. Managers will be available to discuss positions.
X-ALT-DESC;FMTTYPE=text/html:Join Us for the 2016 Job Fair at The Ridges Resort &amp\; Marina. Openings in all departments. Managers will be available to discuss positions.
LOCATION:The Ridges Resort & Marina\, Hiawassee\, GA
UID:e.256.49459
SEQUENCE:3
DTSTAMP:20260421T022526Z
URL:https://members.visitblairsvillega.com/events/details/2016-job-fair-at-the-ridges-resort-marina-03-01-2016-49459
END:VEVENT

END:VCALENDAR
