BEGIN:VCALENDAR
VERSION:2.0
PRODID:-//ChamberMaster//Event Calendar 2.0//EN
METHOD:PUBLISH
X-PUBLISHED-TTL:P3D
REFRESH-INTERVAL:P3D
CALSCALE:GREGORIAN
BEGIN:VEVENT
DTSTART:20160507T200000Z
DTEND:20160507T233000Z
X-MICROSOFT-CDO-ALLDAYEVENT:FALSE
SUMMARY:2016 Kentucky Derby Party
DESCRIPTION:You're invited to the 2016 Kentucky Derby Party! All proceeds benefit Towns and Union County S.A.F.E. Tickets are $35/individual or $60/couple so find a friend and enjoy the festivities! Contact Carol Demme at 706-897-7692 to purchase tickets and for further information. Any donations specifically for this event ( checks\, etc.) should be made to SAFE DERBY FUND They can be mailed to: SAFE Derby Fund\, P.O. Box 2236\, Blairsville\, Ga. 30514 Live Music by Rewind! Buffet catered by Amazing Grace Catering Come celebrate with friends and neighbors and don't miss out on a great event to support S.A.F.E.! -Silent Auction -Door Prizes -50/50 Raffle -Prettiest Hat Contest - Funniest Hat Contest
X-ALT-DESC;FMTTYPE=text/html:You&#39\;re invited to the 2016 Kentucky Derby Party! All proceeds benefit Towns and Union County S.A.F.E. Tickets are $35/individual or $60/couple so find a friend and enjoy the festivities! Contact Carol Demme at 706-897-7692 to purchase tickets and for further information. Any donations specifically for this event ( checks\, etc.) should be made to SAFE DERBY FUND They can be mailed to: SAFE Derby Fund\, P.O. Box 2236\, Blairsville\, Ga. 30514 Live Music by Rewind! Buffet catered by Amazing Grace Catering Come celebrate with friends and neighbors and don&#39\;t miss out on a great event to support S.A.F.E.! -Silent Auction -Door Prizes -50/50 Raffle -Prettiest Hat Contest - Funniest Hat Contest
LOCATION:North GA Tech College 121 Meeks Avenue Blairsville\, GA
UID:e.256.49831
SEQUENCE:3
DTSTAMP:20260421T002242Z
URL:https://members.visitblairsvillega.com/events/details/2016-kentucky-derby-party-05-07-2016-49831
END:VEVENT

END:VCALENDAR
