BEGIN:VCALENDAR
VERSION:2.0
PRODID:-//ChamberMaster//Event Calendar 2.0//EN
METHOD:PUBLISH
X-PUBLISHED-TTL:P3D
REFRESH-INTERVAL:P3D
CALSCALE:GREGORIAN
BEGIN:VEVENT
DTSTART:20160319T150000Z
DTEND:20160319T210000Z
X-MICROSOFT-CDO-ALLDAYEVENT:FALSE
SUMMARY:2016 Wine Highway Weekend with Elite Escapes
DESCRIPTION:It's that time of year when the Wine Growers Association of Georgia hosts the 11th Annual Wine Highway Weekend! 21 wineries are participating and we plan on visiting all of them during this 2 weekend event. Come and experience it with us in our luxury limo. Bookings have begun so save your seat.
X-ALT-DESC;FMTTYPE=text/html:<span class="_fbReactionComponent__eventDetailsContent fsl">It&#39\;s that time of year when the Wine Growers Association of Georgia hosts the 11th Annual Wine Highway Weekend! 21 wineries are participating and we plan on visiting all of them during this 2 weekend event. Come and experience it with us in our luxury limo. Bookings have begun so save your seat.</span>
LOCATION:
UID:e.256.49998
SEQUENCE:3
DTSTAMP:20260421T022016Z
URL:https://members.visitblairsvillega.com/events/details/2016-wine-highway-weekend-with-elite-escapes-03-19-2016-49998
END:VEVENT

END:VCALENDAR
