BEGIN:VCALENDAR
VERSION:2.0
PRODID:-//ChamberMaster//Event Calendar 2.0//EN
METHOD:PUBLISH
X-PUBLISHED-TTL:P3D
REFRESH-INTERVAL:P3D
CALSCALE:GREGORIAN
BEGIN:VEVENT
DTSTART:20170527T220000Z
DTEND:20170528T030000Z
X-MICROSOFT-CDO-ALLDAYEVENT:FALSE
SUMMARY:2017 Bar W Scholarship Fund Rodeo
DESCRIPTION:This Rodeo is going to be filled with great events\, including: Saddle Bronc Riding Bareback Riding? Calf Roping Steer Wrestling Team Roping Ladies Breakaway Roping Ladies Barrel Racing Bull Riding
X-ALT-DESC;FMTTYPE=text/html:This Rodeo is going to be filled with great events\, including: Saddle Bronc Riding Bareback Riding? Calf Roping Steer Wrestling Team Roping Ladies Breakaway Roping Ladies Barrel Racing Bull Riding
LOCATION:Cutworm's Corral 4637 Downings Creek Rd Hayesville\, NC
UID:e.256.73803
SEQUENCE:3
DTSTAMP:20260420T010149Z
URL:https://members.visitblairsvillega.com/events/details/2017-bar-w-scholarship-fund-rodeo-05-27-2017-73803
END:VEVENT

END:VCALENDAR
