BEGIN:VCALENDAR
VERSION:2.0
PRODID:-//ChamberMaster//Event Calendar 2.0//EN
METHOD:PUBLISH
X-PUBLISHED-TTL:P3D
REFRESH-INTERVAL:P3D
CALSCALE:GREGORIAN
BEGIN:VEVENT
DTSTART:20170819T150000Z
DTEND:20170819T230000Z
X-MICROSOFT-CDO-ALLDAYEVENT:FALSE
SUMMARY:2017 SOLAR ECLIPSE PARTY @ NANI'S CUBAN RESTAURANT
DESCRIPTION:CELEBRATE WITH US THE SOLAR ECLIPSE PARTY\n\n@ NANI'S CUBAN RESTAURANT \n\n\n\nCome and join us at the rare and unique experience of the Solar Eclipse.   We will be offering a unique  Menu to complement this event\;  like the Lunar Burger\,  Moonquitos\, midnight sandwiches  and more.  We will be selling  T-shirts please call ahead for sizes and color.  Also on that day we will have glasses to view the eclipse at no cost for our regular costumers.  Also we will have extra outside seating and portable restroom to accommodate the over flow of people.  So call ahead or to make reservations  call at 706 745 0010.  Let's  make memories at this rare and unique event!
X-ALT-DESC;FMTTYPE=text/html:CELEBRATE WITH US THE SOLAR ECLIPSE PARTY<br />\n@ NANI&#39\;S CUBAN RESTAURANT&nbsp\;<br />\n<br />\nCome and join us at the rare and unique experience of the Solar Eclipse. &nbsp\; We will be offering a unique &nbsp\;Menu to complement this event\; &nbsp\;like the Lunar Burger\, &nbsp\;Moonquitos\, midnight sandwiches &nbsp\;and more. &nbsp\;We will be selling &nbsp\;T-shirts please call ahead for sizes and color. &nbsp\;Also on that day we will have glasses to view the eclipse at no cost for our regular costumers. &nbsp\;Also we will have extra outside seating and portable restroom to accommodate the over flow of people. &nbsp\;So call ahead or to make reservations &nbsp\;call at 706 745 0010. &nbsp\;Let&#39\;s &nbsp\;make memories at this rare&nbsp\;and unique event!<br />\n&nbsp\;
LOCATION:51 D Earnest Street Blairsville\, GA 30512
UID:e.256.75637
SEQUENCE:3
DTSTAMP:20260419T194544Z
URL:https://members.visitblairsvillega.com/events/details/2017-solar-eclipse-party-nani-s-cuban-restaurant-75637
END:VEVENT

END:VCALENDAR
