BEGIN:VCALENDAR
VERSION:2.0
PRODID:-//ChamberMaster//Event Calendar 2.0//EN
METHOD:PUBLISH
X-PUBLISHED-TTL:P3D
REFRESH-INTERVAL:P3D
CALSCALE:GREGORIAN
BEGIN:VEVENT
DTSTART:20150822T180000Z
DTEND:20150822T210000Z
X-MICROSOFT-CDO-ALLDAYEVENT:FALSE
SUMMARY:20th Anniversary Celebration
DESCRIPTION:The Hiwassee River Watershed Coalition is celebrating its 20th anniversary on Saturday\, August 22\, from 2-5pm at the L&N Depot in downtown Murphy\, NC! Everyone is invited to come celebrate with us! There is no admission fee. The event is being held to honor leaders throughout our history\, thank our donors and supporters\, and introduce new people to the organization. Free canoe tours will be offered on Hiwassee Lake and Gnarly Fingers will provide music! There will be games and hands on activities for kids. Birthday cake and lemonade will be served. Other refreshments will also be available for purchase. Face painting will be offered (for a fee) by Macon Faces! And a raffle will be held with a grand prize of more than $150 worth of local restaurant gift certificates. New memberships will only be $20 at the event! At 3:00 there will be a brief program\, announcement of a challenge by the board of directors\, and cake cutting. Join in the fun and learn more about the only organization working 365 days a year to help ensure clean water! Bring some friends!
X-ALT-DESC;FMTTYPE=text/html:The Hiwassee River Watershed Coalition is celebrating its 20th anniversary on Saturday\, August 22\, from 2-5pm at the L&amp\;N Depot in downtown Murphy\, NC! Everyone is invited to come celebrate with us! There is no admission fee. The event is being held to honor leaders throughout our history\, thank our donors and supporters\, and introduce new people to the organization. Free canoe tours will be offered on Hiwassee Lake and Gnarly Fingers will provide music! There will be games and hands on activities for kids. Birthday cake and lemonade will be served. Other refreshments will also be available for purchase. Face painting will be offered (for a fee) by Macon Faces! And a raffle will be held with a grand prize of more than $150 worth of local restaurant gift certificates. New memberships will only be $20 at the event! At 3:00 there will be a brief program\, announcement of a challenge by the board of directors\, and cake cutting. Join in the fun and learn more about the only organization working 365 days a year to help ensure clean water! Bring some friends!
LOCATION:L&N Depot 132 Hiwassee Street Murphy\, NC
UID:e.256.41410
SEQUENCE:3
DTSTAMP:20260423T133803Z
URL:https://members.visitblairsvillega.com/events/details/20th-anniversary-celebration-08-22-2015-41410
END:VEVENT

END:VCALENDAR
