BEGIN:VCALENDAR
VERSION:2.0
PRODID:-//ChamberMaster//Event Calendar 2.0//EN
METHOD:PUBLISH
X-PUBLISHED-TTL:P3D
REFRESH-INTERVAL:P3D
CALSCALE:GREGORIAN
BEGIN:VEVENT
DTSTART:20160930T150000Z
DTEND:20160930T210000Z
X-MICROSOFT-CDO-ALLDAYEVENT:FALSE
SUMMARY:26th Annual Kiwanis Golf Tournament
DESCRIPTION:The Blairsville Kiwanis along with Union General Hospital share a kindred interest in meeting the needs of the children in our community and are working together to raise funds to further this cause.  Everyone is invited to attend the 26th Annual Kiwanis Golf Tournament.  Sponsorship is also needed.
X-ALT-DESC;FMTTYPE=text/html:The Blairsville&nbsp\;Kiwanis along with Union General Hospital share&nbsp\;a kindred interest in meeting the needs of the children in our community and are working together to raise funds to further this cause. &nbsp\;Everyone is invited to attend the 26th&nbsp\;Annual Kiwanis Golf Tournament. &nbsp\;Sponsorship is also needed.
LOCATION:Old Union Golf Course 78 Scores Point Blairsville\, GA 30512
UID:e.256.55586
SEQUENCE:3
DTSTAMP:20260420T144512Z
URL:https://members.visitblairsvillega.com/events/details/26th-annual-kiwanis-golf-tournament-09-30-2016-55586
END:VEVENT

END:VCALENDAR
