BEGIN:VCALENDAR
VERSION:2.0
PRODID:-//ChamberMaster//Event Calendar 2.0//EN
METHOD:PUBLISH
X-PUBLISHED-TTL:P3D
REFRESH-INTERVAL:P3D
CALSCALE:GREGORIAN
BEGIN:VEVENT
DTSTART:20140927T150000Z
DTEND:20140927T180000Z
X-MICROSOFT-CDO-ALLDAYEVENT:FALSE
SUMMARY:27th Annual Union County Republican Party BBQ
DESCRIPTION:This BBQ will have all the fixings. There will be good music\, local soloists\, door prizes\, a cake sale\, and a silent auction. Invite your friends to come out with you for a day of fun\, Southern politics\, and good BBQ!\n\nGovernor Nathan Deal will be the keynote speaker for the BBQ this year. Also attending will be U.S. Senate candidate David Perdue\, U.S. Congressman Doug Collins\, State School Superintendent candidate Richard Woods\, and State Representative Stephen Allison. Other officials have been invited to speak and are expected to be present also.
X-ALT-DESC;FMTTYPE=text/html:This BBQ will have all the fixings. There will be good music\, local soloists\, door prizes\, a cake sale\, and a silent auction. Invite your friends to come out with you for a day of fun\, Southern politics\, and good BBQ!<br />\nGovernor Nathan Deal will be the keynote speaker for the BBQ this year. Also attending will be U.S. Senate candidate David Perdue\, U.S. Congressman Doug Collins\, State School Superintendent candidate Richard Woods\, and State Representative Stephen Allison. Other officials have been invited to speak and are expected to be present also.
LOCATION:Union County Arena 73 Saddle Club Dr. Blairsville\, GA
UID:e.256.27309
SEQUENCE:3
DTSTAMP:20260424T063105Z
URL:https://members.visitblairsvillega.com/events/details/27th-annual-union-county-republican-party-bbq-09-27-2014-27309
END:VEVENT

END:VCALENDAR
