BEGIN:VCALENDAR
VERSION:2.0
PRODID:-//ChamberMaster//Event Calendar 2.0//EN
METHOD:PUBLISH
X-PUBLISHED-TTL:P3D
REFRESH-INTERVAL:P3D
CALSCALE:GREGORIAN
BEGIN:VEVENT
DTSTART:20141216T223000Z
DTEND:20141217T010000Z
X-MICROSOFT-CDO-ALLDAYEVENT:FALSE
SUMMARY:2nd Annual 9th District Christmas Celebration
DESCRIPTION:
X-ALT-DESC;FMTTYPE=text/html:
LOCATION:Babyland General Hospital 300 N.O.K. Drive Cleveland\, GA
UID:e.256.27985
SEQUENCE:3
DTSTAMP:20260424T020247Z
URL:https://members.visitblairsvillega.com/events/details/2nd-annual-9th-district-christmas-celebration-12-16-2014-27985
END:VEVENT

END:VCALENDAR
