BEGIN:VCALENDAR
VERSION:2.0
PRODID:-//ChamberMaster//Event Calendar 2.0//EN
METHOD:PUBLISH
X-PUBLISHED-TTL:P3D
REFRESH-INTERVAL:P3D
CALSCALE:GREGORIAN
BEGIN:VEVENT
DTSTART:20171028T150000Z
DTEND:20171028T230000Z
X-MICROSOFT-CDO-ALLDAYEVENT:FALSE
SUMMARY:2nd Annual Appalachian Brew\, Stew and Que Festival
DESCRIPTION:21 Craft Breweries from NC & GA will be participating in the 2nd Beer Festival at the Georgia Mountain Fairgrounds in Hiawassee. Regional artist\, area restaurants\, great music and the GA/FL Game will be broadcast. A great way to spend a Fall day.
X-ALT-DESC;FMTTYPE=text/html:21 Craft Breweries from NC &amp\; GA will be participating in the 2nd Beer Festival at the Georgia Mountain Fairgrounds in Hiawassee. Regional artist\, area restaurants\, great music and the GA/FL Game will be broadcast. A great way to spend a Fall day.
LOCATION:Georgia Mountain Fairgrounds 1311 Music Hall Road Hiawassee\, GA 30546
UID:e.256.76092
SEQUENCE:3
DTSTAMP:20260419T160413Z
URL:https://members.visitblairsvillega.com/events/details/2nd-annual-appalachian-brew-stew-and-que-festival-76092
END:VEVENT

END:VCALENDAR
