BEGIN:VCALENDAR
VERSION:2.0
PRODID:-//ChamberMaster//Event Calendar 2.0//EN
METHOD:PUBLISH
X-PUBLISHED-TTL:P3D
REFRESH-INTERVAL:P3D
CALSCALE:GREGORIAN
BEGIN:VEVENT
DTSTART:20140921T150000Z
DTEND:20140921T200000Z
X-MICROSOFT-CDO-ALLDAYEVENT:FALSE
SUMMARY:2nd Annual Celebrate Autumn Arts & Crafts Show
DESCRIPTION:This is a juried arts and crafts show with inside and outside booths. Sandwiches\, salads\, desserts and beverages will be available.
X-ALT-DESC;FMTTYPE=text/html:This is a juried arts and crafts show with inside and outside booths. Sandwiches\, salads\, desserts and beverages will be available. 
LOCATION:North Georgia Technical College 121 Meeks Ave. Blairsville
UID:e.256.20968
SEQUENCE:3
DTSTAMP:20260424T063221Z
URL:https://members.visitblairsvillega.com/events/details/2nd-annual-celebrate-autumn-arts-crafts-show-09-21-2014-20968
END:VEVENT

END:VCALENDAR
