BEGIN:VCALENDAR
VERSION:2.0
PRODID:-//ChamberMaster//Event Calendar 2.0//EN
METHOD:PUBLISH
X-PUBLISHED-TTL:P3D
REFRESH-INTERVAL:P3D
CALSCALE:GREGORIAN
BEGIN:VEVENT
DTSTART:20140411T150000Z
DTEND:20140411T200000Z
X-MICROSOFT-CDO-ALLDAYEVENT:FALSE
SUMMARY:2nd Annual Derrick Whittle Blood Drive
DESCRIPTION:2nd Annual Blood Drive\n\nIn Memory of Derrick Whittle\n\nFriday\, April 11th 11am - 4pm at the Union County Courthouse - Lower Parking Lot \n\n\n\nDonors must be at least 17 years old (16 years old with parental consent) and weigh at least 110 pounds. Donors will receive a snack and complimentary t-shirt and may be eligible to register for our monthly drawing.
X-ALT-DESC;FMTTYPE=text/html:<strong>2nd Annual Blood Drive<br />\nIn Memory of Derrick Whittle<br />\nFriday\, April 11th 11am - 4pm at the Union County Courthouse - Lower Parking Lot </strong><br />\n<br />\nDonors must be at least 17 years old (16 years old with parental consent) and weigh at least 110 pounds. Donors will receive a snack and complimentary t-shirt and may be eligible to register for our monthly drawing.
LOCATION:Union County Courthouse - Lower Parking Lot
UID:e.256.23778
SEQUENCE:3
DTSTAMP:20260424T133755Z
URL:https://members.visitblairsvillega.com/events/details/2nd-annual-derrick-whittle-blood-drive-04-11-2014-23778
END:VEVENT

END:VCALENDAR
