BEGIN:VCALENDAR
VERSION:2.0
PRODID:-//ChamberMaster//Event Calendar 2.0//EN
METHOD:PUBLISH
X-PUBLISHED-TTL:P3D
REFRESH-INTERVAL:P3D
CALSCALE:GREGORIAN
BEGIN:VEVENT
DTSTART:20150501T110000Z
DTEND:20150501T163000Z
X-MICROSOFT-CDO-ALLDAYEVENT:FALSE
SUMMARY:2nd Annual Derrick Whittle Memorial Golf Tournament
DESCRIPTION:Golf Tournament in Memory of Derrick Whittle to benefit the Derrick Whittle Memorial Fund. The funds raised from this tournament will awarded to graduating seniors from Union County High School in May. Registration begins at 7 a.m. and shotgun start is at 8 a.m. Complimentary lunch will be served at 12:30. Door prizes and 50/50 will also be offered. It is a 4 man scramble with prizes awarded for closest pin and longest drive. Hole-in-one on designated par 3 will win a new 2015 Chevy truck. Mulligans will be available. Four levels of sponsorship -- $100\, $200\, $500\, or $1000 The Georgia Law Enforcement Moving Memorial honoring all Georgia fallen law enforcement will be at the tournament. This is an honor to be able to have it with us. Everyone who is not a golfer is welcome to come by to pay tribute to our fallen officers.
X-ALT-DESC;FMTTYPE=text/html:Golf Tournament in Memory of Derrick Whittle to benefit the Derrick Whittle Memorial Fund. The funds raised from this tournament will awarded to graduating seniors from Union County High School in May. Registration begins at 7 a.m. and shotgun start is at 8 a.m. Complimentary lunch will be served at 12:30. Door prizes and 50/50 will also be offered. It is a 4 man scramble with prizes awarded for closest pin and longest drive. Hole-in-one on designated par 3 will win a new 2015 Chevy truck. Mulligans will be available. Four levels of sponsorship -- $100\, $200\, $500\, or $1000 The Georgia Law Enforcement Moving Memorial honoring all Georgia fallen law enforcement will be at the tournament. This is an honor to be able to have it with us. Everyone who is not a golfer is welcome to come by to pay tribute to our fallen officers.
LOCATION:Butternut Creek Golf Course Blairsville\, GA 30512
UID:e.256.37672
SEQUENCE:3
DTSTAMP:20260423T182707Z
URL:https://members.visitblairsvillega.com/events/details/2nd-annual-derrick-whittle-memorial-golf-tournament-05-01-2015-37672
END:VEVENT

END:VCALENDAR
