BEGIN:VCALENDAR
VERSION:2.0
PRODID:-//ChamberMaster//Event Calendar 2.0//EN
METHOD:PUBLISH
X-PUBLISHED-TTL:P3D
REFRESH-INTERVAL:P3D
CALSCALE:GREGORIAN
BEGIN:VEVENT
DTSTART:20150905T120000Z
DTEND:20150905T210000Z
X-MICROSOFT-CDO-ALLDAYEVENT:FALSE
SUMMARY:2nd Annual *Labor Day* Yard Sale
DESCRIPTION:Join us for our Labor Day Yard Sale!! Deals can't be beat! We have at least 8 different people set up with TONS of yard sale items -- AMAZING DEALS - Plenty of parking available!
X-ALT-DESC;FMTTYPE=text/html:Join us for our Labor Day Yard Sale!! Deals can&#39\;t be beat! We have at least 8 different people set up with TONS of yard sale items -- AMAZING DEALS - Plenty of parking available!
LOCATION:23 Dyer Rdg\, Blairsville\, GA
UID:e.256.43416
SEQUENCE:3
DTSTAMP:20260423T121858Z
URL:https://members.visitblairsvillega.com/events/details/2nd-annual-labor-day-yard-sale-09-05-2015-43416
END:VEVENT

END:VCALENDAR
