BEGIN:VCALENDAR
VERSION:2.0
PRODID:-//ChamberMaster//Event Calendar 2.0//EN
METHOD:PUBLISH
X-PUBLISHED-TTL:P3D
REFRESH-INTERVAL:P3D
CALSCALE:GREGORIAN
BEGIN:VEVENT
DTSTART:20140427T160000Z
DTEND:20140427T220000Z
X-MICROSOFT-CDO-ALLDAYEVENT:FALSE
SUMMARY:2nd Annual Mtn Wine Country Bud-Break Weekend at Hightower Creek Vineyards
DESCRIPTION:Spend the weekend tasting what North Georgia & Western North Carolina have to offer! After last year's great turnout\, we're excited to participate again.Purchase a passport at all of the 12 participating wineries to enjoy tastings and special events all weekend.  To learn more\, visit mountainwinecountry.com and sign up for the newsletter. $20.00 purchases your passport and includes a glass of wine or a tasting! We are looking forward to seeing everyone!
X-ALT-DESC;FMTTYPE=text/html:<div>Spend the weekend tasting what North Georgia &amp\; Western North Carolina have to offer! After last year&#39\;s great turnout\, we&#39\;re excited to participate again.Purchase a passport at all of the 12 participating wineries to enjoy tastings and special events all weekend. &nbsp\;To learn more\, visit mountainwinecountry.com and sign up for the newsletter. $20.00 purchases your passport and includes a glass of wine or a tasting! We are looking forward to seeing everyone!&nbsp\;</div>\n
LOCATION:7150 Canaan Drive Hiawassee\, GA 30546
UID:e.256.24230
SEQUENCE:3
DTSTAMP:20260424T135640Z
URL:https://members.visitblairsvillega.com/events/details/2nd-annual-mtn-wine-country-bud-break-weekend-at-hightower-creek-vineyards-04-27-2014-24230
END:VEVENT

END:VCALENDAR
