BEGIN:VCALENDAR
VERSION:2.0
PRODID:-//ChamberMaster//Event Calendar 2.0//EN
METHOD:PUBLISH
X-PUBLISHED-TTL:P3D
REFRESH-INTERVAL:P3D
CALSCALE:GREGORIAN
BEGIN:VEVENT
DTSTART:20141009T220000Z
DTEND:20141010T000000Z
X-MICROSOFT-CDO-ALLDAYEVENT:FALSE
SUMMARY:2nd Annual Night of the Mountain Lion @ YHC
DESCRIPTION:Explore the flavors of the mountains! This is a fun-filled community event as well as an important fundraiser for the Young Harris College Basketball Program. The Reverse Raffle will give you a chance to win $5\,000!
X-ALT-DESC;FMTTYPE=text/html:Explore the flavors of the mountains! This is a fun-filled community event as well as an important fundraiser for the Young Harris College Basketball Program. The Reverse Raffle will give you a chance to win $5\,000!
LOCATION:YHC Recreation & Fitness Center 1 College St. Young Harris\, GA
UID:e.256.27475
SEQUENCE:3
DTSTAMP:20260424T045644Z
URL:https://members.visitblairsvillega.com/events/details/2nd-annual-night-of-the-mountain-lion-yhc-10-09-2014-27475
END:VEVENT

END:VCALENDAR
